{"text_format":"2","workbook":"xlsx","n_sheets":1,"sheets":["Sheet1"],"not_rendered":{"charts":0,"images":0,"macros":0,"external_links":1,"defined_names":1,"comments":0,"pivot_tables":0},"unopened":[],"bounds":{"document_bytes":16777216,"sheet_cells":100000,"run_cost":"one","rows_first":2000,"rows_last":500,"rows_between":2000,"halvings":0,"cell_chars":16384,"cell_head_chars":4096},"cells_cut":0,"cells_raw":0,"read":"whole","date_system":"1900"}

{"sheet":"Sheet1","index":0,"n_rows":600,"n_cols":10,"rows_kept":600,"cut":false,"hidden":false,"merged":[]}
["建筑ID","等级","升级消耗","升级时间","属性值","前置建筑等级","领主等级条件","升级属性展示","特殊属性Lang"]
[1,0,"[[10002,0]]"]
[1,1,"[[101,525],[103,525],[10002,150]]",3,"[[205,2600],[601,100]]",null,null,"[[205,2600],[601,100]]"]
[1,2,"[[101,2100],[103,2100],[10002,300]]",3,"[[205,2700],[601,200]]",null,null,"[[205,2700],[601,200]]"]
[1,3,"[[101,4800],[103,4800],[10002,500]]",3,"[[205,2800],[601,300]]",null,null,"[[205,2800],[601,300]]",null,{"$f":"VLOOKUP(A5,[1]Sheet1!$A:$D,4,FALSE)","v":"主城"}]
[1,4,"[[101,8400],[103,8400],[10002,550]]",3,"[[205,2900],[601,400]]",null,null,"[[205,2900],[601,400]]",null,{"$f":"VLOOKUP(A6,[1]Sheet1!$A:$D,4,FALSE)","v":"主城"}]
[1,5,"[[101,13500],[103,13500],[10002,550]]",3,"[[205,3000],[601,500]]",null,null,"[[205,3000],[601,500]]",null,{"$f":"VLOOKUP(A7,[1]Sheet1!$A:$D,4,FALSE)","v":"主城"}]
[1,6,"[[101,16500],[103,16500],[10002,570]]",3,"[[205,3100],[601,600]]",null,null,"[[205,3100],[601,600]]",null,{"$f":"VLOOKUP(A8,[1]Sheet1!$A:$D,4,FALSE)","v":"主城"}]
[1,7,"[[101,22500],[103,22500],[10002,580]]",3,"[[205,3200],[601,700]]",null,null,"[[205,3200],[601,700]]",null,{"$f":"VLOOKUP(A9,[1]Sheet1!$A:$D,4,FALSE)","v":"主城"}]
[1,8,"[[101,30000],[103,30000],[10002,600]]",3,"[[205,3300],[601,800]]",null,null,"[[205,3300],[601,800]]",null,{"$f":"VLOOKUP(A10,[1]Sheet1!$A:$D,4,FALSE)","v":"主城"}]
[1,9,"[[101,37500],[103,37500],[10002,700]]",3,"[[205,3400],[601,900]]",null,null,"[[205,3400],[601,900]]",null,{"$f":"VLOOKUP(A11,[1]Sheet1!$A:$D,4,FALSE)","v":"主城"}]
[1,10,"[[101,60000],[103,60000],[10002,800]]",3,"[[205,3500],[601,1000]]",null,null,"[[205,3500],[601,1000]]",null,{"$f":"VLOOKUP(A12,[1]Sheet1!$A:$D,4,FALSE)","v":"主城"}]
[1,11,"[[101,75000],[103,75000],[10002,1000]]",3,"[[205,3600],[601,1100]]",null,null,"[[205,3600],[601,1100]]",null,{"$f":"VLOOKUP(A13,[1]Sheet1!$A:$D,4,FALSE)","v":"主城"}]
[1,12,"[[101,90000],[103,90000],[10002,1200]]",3,"[[205,3700],[601,1200]]",null,null,"[[205,3700],[601,1200]]",null,{"$f":"VLOOKUP(A14,[1]Sheet1!$A:$D,4,FALSE)","v":"主城"}]
[1,13,"[[101,120000],[103,120000],[10002,1400]]",3,"[[205,3800],[601,1300]]",null,null,"[[205,3800],[601,1300]]",null,{"$f":"VLOOKUP(A15,[1]Sheet1!$A:$D,4,FALSE)","v":"主城"}]
[1,14,"[[101,150000],[103,150000],[10002,2000]]",3,"[[205,3900],[601,1400]]",null,null,"[[205,3900],[601,1400]]",null,{"$f":"VLOOKUP(A16,[1]Sheet1!$A:$D,4,FALSE)","v":"主城"}]
[1,15,"[[101,180000],[103,180000],[10002,3000]]",3,"[[205,4000],[601,1500]]",null,null,"[[205,4000],[601,1500]]",null,{"$f":"VLOOKUP(A17,[1]Sheet1!$A:$D,4,FALSE)","v":"主城"}]
[1,16,"[[101,210000],[103,210000],[10002,3300]]",3,"[[205,4100],[601,1600]]",null,null,"[[205,4100],[601,1600]]",null,{"$f":"VLOOKUP(A18,[1]Sheet1!$A:$D,4,FALSE)","v":"主城"}]
[1,17,"[[101,240000],[103,240000],[10002,3500]]",3,"[[205,4200],[601,1700]]",null,null,"[[205,4200],[601,1700]]",null,{"$f":"VLOOKUP(A19,[1]Sheet1!$A:$D,4,FALSE)","v":"主城"}]
[1,18,"[[101,270000],[103,270000],[10002,3700]]",3,"[[205,4300],[601,1800]]",null,null,"[[205,4300],[601,1800]]",null,{"$f":"VLOOKUP(A20,[1]Sheet1!$A:$D,4,FALSE)","v":"主城"}]
[1,19,"[[101,300000],[103,300000],[10002,4000]]",3,"[[205,4400],[601,1900]]",null,null,"[[205,4400],[601,1900]]",null,{"$f":"VLOOKUP(A21,[1]Sheet1!$A:$D,4,FALSE)","v":"主城"}]
[1,20,"[[101,375000],[103,375000],[10002,4200]]",3,"[[205,4500],[601,2000]]",null,null,"[[205,4500],[601,2000]]",null,{"$f":"VLOOKUP(A22,[1]Sheet1!$A:$D,4,FALSE)","v":"主城"}]
[1,21,"[[101,450000],[103,450000],[10002,4400]]",3,"[[205,4600],[601,2100]]",null,null,"[[205,4600],[601,2100]]",null,{"$f":"VLOOKUP(A23,[1]Sheet1!$A:$D,4,FALSE)","v":"主城"}]
[1,22,"[[101,600000],[103,600000],[10002,4600]]",3,"[[205,4700],[601,2200]]",null,null,"[[205,4700],[601,2200]]",null,{"$f":"VLOOKUP(A24,[1]Sheet1!$A:$D,4,FALSE)","v":"主城"}]
[1,23,"[[101,900000],[103,900000],[10002,5000]]",3,"[[205,4800],[601,2300]]",null,null,"[[205,4800],[601,2300]]",null,{"$f":"VLOOKUP(A25,[1]Sheet1!$A:$D,4,FALSE)","v":"主城"}]
[1,24,"[[101,1200000],[103,1200000],[10002,5500]]",3,"[[205,4900],[601,2400]]",null,null,"[[205,4900],[601,2400]]",null,{"$f":"VLOOKUP(A26,[1]Sheet1!$A:$D,4,FALSE)","v":"主城"}]
[1,25,null,null,"[[205,5000],[601,2500]]",null,null,"[[205,5000],[601,2500]]",null,{"$f":"VLOOKUP(A27,[1]Sheet1!$A:$D,4,FALSE)","v":"主城"}]
[10100,0,"[[101,350],[103,350]]",10,"[[101,0]]","[[1,2]]",null,"[[101,0]]",null,{"$f":"VLOOKUP(A28,[1]Sheet1!$A:$D,4,FALSE)","v":"仓库"}]
[10100,1,"[[101,1400],[103,1400]]",30,"[[101,75000],[601,100]]","[[1,2]]",null,"[[101,75000],[601,100]]",null,{"$f":"VLOOKUP(A29,[1]Sheet1!$A:$D,4,FALSE)","v":"仓库"}]
[10100,2,"[[101,3200],[103,3200]]",60,"[[101,90000],[601,200]]","[[1,3]]",null,"[[101,90000],[601,200]]",null,{"$f":"VLOOKUP(A30,[1]Sheet1!$A:$D,4,FALSE)","v":"仓库"}]
[10100,3,"[[101,5600],[103,5600]]",120,"[[101,105000],[601,300]]","[[1,3]]",null,"[[101,105000],[601,300]]",null,{"$f":"VLOOKUP(A31,[1]Sheet1!$A:$D,4,FALSE)","v":"仓库"}]
[10100,4,"[[101,9000],[103,9000]]",180,"[[101,135000],[601,400]]","[[1,4]]",null,"[[101,135000],[601,400]]",null,{"$f":"VLOOKUP(A32,[1]Sheet1!$A:$D,4,FALSE)","v":"仓库"}]
[10100,5,"[[101,11000],[103,11000]]",300,"[[101,165000],[601,500]]","[[1,6]]",null,"[[101,165000],[601,500]]",null,{"$f":"VLOOKUP(A33,[1]Sheet1!$A:$D,4,FALSE)","v":"仓库"}]
[10100,6,"[[101,15000],[103,15000]]",600,"[[101,195000],[601,600]]","[[1,8]]",null,"[[101,195000],[601,600]]",null,{"$f":"VLOOKUP(A34,[1]Sheet1!$A:$D,4,FALSE)","v":"仓库"}]
[10100,7,"[[101,20000],[103,20000]]",900,"[[101,225000],[601,700]]","[[1,10]]",null,"[[101,225000],[601,700]]",null,{"$f":"VLOOKUP(A35,[1]Sheet1!$A:$D,4,FALSE)","v":"仓库"}]
[10100,8,"[[101,25000],[103,25000]]",1800,"[[101,300000],[601,800]]","[[1,12]]",null,"[[101,300000],[601,800]]",null,{"$f":"VLOOKUP(A36,[1]Sheet1!$A:$D,4,FALSE)","v":"仓库"}]
[10100,9,"[[101,40000],[103,40000]]",2400,"[[101,450000],[601,900]]","[[1,13]]",null,"[[101,450000],[601,900]]",null,{"$f":"VLOOKUP(A37,[1]Sheet1!$A:$D,4,FALSE)","v":"仓库"}]
[10100,10,"[[101,50000],[103,50000]]",3900,"[[101,600000],[601,1000]]","[[1,15]]",null,"[[101,600000],[601,1000]]",null,{"$f":"VLOOKUP(A38,[1]Sheet1!$A:$D,4,FALSE)","v":"仓库"}]
[10100,11,"[[101,60000],[103,60000]]",6000,"[[101,750000],[601,1100]]","[[1,17]]",null,"[[101,750000],[601,1100]]",null,{"$f":"VLOOKUP(A39,[1]Sheet1!$A:$D,4,FALSE)","v":"仓库"}]
[10100,12,"[[101,80000],[103,80000]]",7800,"[[101,900000],[601,1200]]","[[1,18]]",null,"[[101,900000],[601,1200]]",null,{"$f":"VLOOKUP(A40,[1]Sheet1!$A:$D,4,FALSE)","v":"仓库"}]
[10100,13,"[[101,100000],[103,100000]]",9900,"[[101,1050000],[601,1300]]","[[1,19]]",null,"[[101,1050000],[601,1300]]",null,{"$f":"VLOOKUP(A41,[1]Sheet1!$A:$D,4,FALSE)","v":"仓库"}]
[10100,14,"[[101,120000],[103,120000]]",11700,"[[101,1200000],[601,1400]]","[[1,20]]",null,"[[101,1200000],[601,1400]]",null,{"$f":"VLOOKUP(A42,[1]Sheet1!$A:$D,4,FALSE)","v":"仓库"}]
[10100,15,"[[101,140000],[103,140000]]",15600,"[[101,1350000],[601,1500]]","[[1,21]]",null,"[[101,1350000],[601,1500]]",null,{"$f":"VLOOKUP(A43,[1]Sheet1!$A:$D,4,FALSE)","v":"仓库"}]
[10100,16,"[[101,160000],[103,160000]]",19500,"[[101,1650000],[601,1600]]","[[1,22]]",null,"[[101,1650000],[601,1600]]",null,{"$f":"VLOOKUP(A44,[1]Sheet1!$A:$D,4,FALSE)","v":"仓库"}]
[10100,17,"[[101,180000],[103,180000]]",23400,"[[101,1950000],[601,1700]]","[[1,23]]",null,"[[101,1950000],[601,1700]]",null,{"$f":"VLOOKUP(A45,[1]Sheet1!$A:$D,4,FALSE)","v":"仓库"}]
[10100,18,"[[101,200000],[103,200000]]",27300,"[[101,2250000],[601,1800]]","[[1,24]]",null,"[[101,2250000],[601,1800]]",null,{"$f":"VLOOKUP(A46,[1]Sheet1!$A:$D,4,FALSE)","v":"仓库"}]
[10100,19,"[[101,250000],[103,250000]]",31200,"[[101,3000000],[601,1900]]","[[1,25]]",null,"[[101,3000000],[601,1900]]",null,{"$f":"VLOOKUP(A47,[1]Sheet1!$A:$D,4,FALSE)","v":"仓库"}]
[10100,20,"[[101,300000],[103,300000]]",36000,"[[101,3750000],[601,2000]]","[[1,25]]",null,"[[101,3750000],[601,2000]]",null,{"$f":"VLOOKUP(A48,[1]Sheet1!$A:$D,4,FALSE)","v":"仓库"}]
[10100,21,"[[101,400000],[103,400000]]",39000,"[[101,4500000],[601,2100]]","[[1,25]]",null,"[[101,4500000],[601,2100]]",null,{"$f":"VLOOKUP(A49,[1]Sheet1!$A:$D,4,FALSE)","v":"仓库"}]
[10100,22,"[[101,600000],[103,600000]]",42000,"[[101,5250000],[601,2200]]","[[1,25]]",null,"[[101,5250000],[601,2200]]",null,{"$f":"VLOOKUP(A50,[1]Sheet1!$A:$D,4,FALSE)","v":"仓库"}]
[10100,23,"[[101,800000],[103,800000]]",48000,"[[101,6000000],[601,2300]]","[[1,25]]",null,"[[101,6000000],[601,2300]]",null,{"$f":"VLOOKUP(A51,[1]Sheet1!$A:$D,4,FALSE)","v":"仓库"}]
[10100,24,"[[101,1000000],[103,1000000]]",54000,"[[101,6750000],[601,2400]]","[[1,25]]",null,"[[101,6750000],[601,2400]]",null,{"$f":"VLOOKUP(A52,[1]Sheet1!$A:$D,4,FALSE)","v":"仓库"}]
[10100,25,null,null,"[[101,7500000],[601,2500]]",null,null,"[[101,7500000],[601,2500]]",null,{"$f":"VLOOKUP(A53,[1]Sheet1!$A:$D,4,FALSE)","v":"仓库"}]
[10101,0,"[[101,300],[103,300]]",10,"[[102,0]]","[[1,9]]",null,"[[102,0]]",null,{"$f":"VLOOKUP(A54,[1]Sheet1!$A:$D,4,FALSE)","v":"地窖"}]
[10101,1,"[[101,1200],[103,1200]]",20,"[[102,49500],[601,100]]","[[1,9]]",null,"[[102,49500],[601,100]]",null,{"$f":"VLOOKUP(A55,[1]Sheet1!$A:$D,4,FALSE)","v":"地窖"}]
[10101,2,"[[101,3000],[103,3000]]",30,"[[102,78750],[601,200]]","[[1,9]]",null,"[[102,78750],[601,200]]",null,{"$f":"VLOOKUP(A56,[1]Sheet1!$A:$D,4,FALSE)","v":"地窖"}]
[10101,3,"[[101,5000],[103,5000]]",50,"[[102,180000],[601,300]]","[[1,10]]",null,"[[102,180000],[601,300]]",null,{"$f":"VLOOKUP(A57,[1]Sheet1!$A:$D,4,FALSE)","v":"地窖"}]
[10101,4,"[[101,8000],[103,8000]]",70,"[[102,270000],[601,400]]","[[1,11]]",null,"[[102,270000],[601,400]]",null,{"$f":"VLOOKUP(A58,[1]Sheet1!$A:$D,4,FALSE)","v":"地窖"}]
[10101,5,"[[101,10000],[103,10000]]",120,"[[102,375000],[601,500]]","[[1,12]]",null,"[[102,375000],[601,500]]",null,{"$f":"VLOOKUP(A59,[1]Sheet1!$A:$D,4,FALSE)","v":"地窖"}]
[10101,6,"[[101,15000],[103,15000]]",210,"[[102,450000],[601,600]]","[[1,14]]",null,"[[102,450000],[601,600]]",null,{"$f":"VLOOKUP(A60,[1]Sheet1!$A:$D,4,FALSE)","v":"地窖"}]
[10101,7,"[[101,20000],[103,20000]]",300,"[[102,525000],[601,700]]","[[1,15]]",null,"[[102,525000],[601,700]]",null,{"$f":"VLOOKUP(A61,[1]Sheet1!$A:$D,4,FALSE)","v":"地窖"}]
[10101,8,"[[101,25000],[103,25000]]",600,"[[102,600000],[601,800]]","[[1,16]]",null,"[[102,600000],[601,800]]",null,{"$f":"VLOOKUP(A62,[1]Sheet1!$A:$D,4,FALSE)","v":"地窖"}]
[10101,9,"[[101,35000],[103,35000]]",720,"[[102,675000],[601,900]]","[[1,17]]",null,"[[102,675000],[601,900]]",null,{"$f":"VLOOKUP(A63,[1]Sheet1!$A:$D,4,FALSE)","v":"地窖"}]
[10101,10,"[[101,45000],[103,45000]]",1440,"[[102,825000],[601,1000]]","[[1,18]]",null,"[[102,825000],[601,1000]]",null,{"$f":"VLOOKUP(A64,[1]Sheet1!$A:$D,4,FALSE)","v":"地窖"}]
[10101,11,"[[101,50000],[103,50000]]",2400,"[[102,975000],[601,1100]]","[[1,19]]",null,"[[102,975000],[601,1100]]",null,{"$f":"VLOOKUP(A65,[1]Sheet1!$A:$D,4,FALSE)","v":"地窖"}]
[10101,12,"[[101,55000],[103,55000]]",2700,"[[102,1125000],[601,1200]]","[[1,20]]",null,"[[102,1125000],[601,1200]]",null,{"$f":"VLOOKUP(A66,[1]Sheet1!$A:$D,4,FALSE)","v":"地窖"}]
[10101,13,"[[101,60000],[103,60000]]",3600,"[[102,1530000],[601,1300]]","[[1,21]]",null,"[[102,1530000],[601,1300]]",null,{"$f":"VLOOKUP(A67,[1]Sheet1!$A:$D,4,FALSE)","v":"地窖"}]
[10101,14,"[[101,80000],[103,80000]]",4200,"[[102,1950000],[601,1400]]","[[1,22]]",null,"[[102,1950000],[601,1400]]",null,{"$f":"VLOOKUP(A68,[1]Sheet1!$A:$D,4,FALSE)","v":"地窖"}]
[10101,15,"[[101,100000],[103,100000]]",5400,"[[102,2385000],[601,1500]]","[[1,23]]",null,"[[102,2385000],[601,1500]]",null,{"$f":"VLOOKUP(A69,[1]Sheet1!$A:$D,4,FALSE)","v":"地窖"}]
[10101,16,"[[101,120000],[103,120000]]",6600,"[[102,2835000],[601,1600]]","[[1,24]]",null,"[[102,2835000],[601,1600]]",null,{"$f":"VLOOKUP(A70,[1]Sheet1!$A:$D,4,FALSE)","v":"地窖"}]
[10101,17,"[[101,150000],[103,150000]]",7800,"[[102,3300000],[601,1700]]","[[1,25]]",null,"[[102,3300000],[601,1700]]",null,{"$f":"VLOOKUP(A71,[1]Sheet1!$A:$D,4,FALSE)","v":"地窖"}]
[10101,18,"[[101,180000],[103,180000]]",9600,"[[102,3780000],[601,1800]]","[[1,25]]",null,"[[102,3780000],[601,1800]]",null,{"$f":"VLOOKUP(A72,[1]Sheet1!$A:$D,4,FALSE)","v":"地窖"}]
[10101,19,"[[101,250000],[103,250000]]",10800,"[[102,4275000],[601,1900]]","[[1,25]]",null,"[[102,4275000],[601,1900]]",null,{"$f":"VLOOKUP(A73,[1]Sheet1!$A:$D,4,FALSE)","v":"地窖"}]
[10101,20,"[[101,400000],[103,400000]]",12000,"[[102,4350000],[601,2000]]","[[1,25]]",null,"[[102,4350000],[601,2000]]",null,{"$f":"VLOOKUP(A74,[1]Sheet1!$A:$D,4,FALSE)","v":"地窖"}]
[10101,21,"[[101,500000],[103,500000]]",13200,"[[102,4425000],[601,2100]]","[[1,25]]",null,"[[102,4425000],[601,2100]]",null,{"$f":"VLOOKUP(A75,[1]Sheet1!$A:$D,4,FALSE)","v":"地窖"}]
[10101,22,"[[101,600000],[103,600000]]",14400,"[[102,4500000],[601,2200]]","[[1,25]]",null,"[[102,4500000],[601,2200]]",null,{"$f":"VLOOKUP(A76,[1]Sheet1!$A:$D,4,FALSE)","v":"地窖"}]
[10101,23,"[[101,800000],[103,800000]]",16800,"[[102,4537500],[601,2300]]","[[1,25]]",null,"[[102,4537500],[601,2300]]",null,{"$f":"VLOOKUP(A77,[1]Sheet1!$A:$D,4,FALSE)","v":"地窖"}]
[10101,24,"[[101,1000000],[103,1000000]]",21600,"[[102,4575000],[601,2400]]","[[1,25]]",null,"[[102,4575000],[601,2400]]",null,{"$f":"VLOOKUP(A78,[1]Sheet1!$A:$D,4,FALSE)","v":"地窖"}]
[10101,25,null,null,"[[102,4650000],[601,2500]]",null,null,"[[102,4650000],[601,2500]]",null,{"$f":"VLOOKUP(A79,[1]Sheet1!$A:$D,4,FALSE)","v":"地窖"}]
[10200,0,"[[101,100],[103,100]]",10,"[[111,0]]","[[1,2]]",null,"[[111,0]]",null,{"$f":"VLOOKUP(A80,[1]Sheet1!$A:$D,4,FALSE)","v":"农场1"}]
[10200,1,"[[101,300],[103,300]]",10,"[[111,500],[601,100]]","[[1,2]]",null,"[[111,500],[601,100]]",null,{"$f":"VLOOKUP(A81,[1]Sheet1!$A:$D,4,FALSE)","v":"农场1"}]
[10200,2,"[[101,900],[103,900]]",20,"[[111,700],[601,200]]","[[1,3]]",null,"[[111,700],[601,200]]",null,{"$f":"VLOOKUP(A82,[1]Sheet1!$A:$D,4,FALSE)","v":"农场1"}]
[10200,3,"[[101,1500],[103,1500]]",30,"[[111,1000],[601,300]]","[[1,3]]",null,"[[111,1000],[601,300]]",null,{"$f":"VLOOKUP(A83,[1]Sheet1!$A:$D,4,FALSE)","v":"农场1"}]
[10200,4,"[[101,3000],[103,3000]]",60,"[[111,1500],[601,400]]","[[1,4]]",null,"[[111,1500],[601,400]]",null,{"$f":"VLOOKUP(A84,[1]Sheet1!$A:$D,4,FALSE)","v":"农场1"}]
[10200,5,"[[101,4000],[103,4000]]",90,"[[111,2000],[601,500]]","[[1,4]]",null,"[[111,2000],[601,500]]",null,{"$f":"VLOOKUP(A85,[1]Sheet1!$A:$D,4,FALSE)","v":"农场1"}]
[10200,6,"[[101,5500],[103,5500]]",150,"[[111,3000],[601,600]]","[[1,4]]",null,"[[111,3000],[601,600]]",null,{"$f":"VLOOKUP(A86,[1]Sheet1!$A:$D,4,FALSE)","v":"农场1"}]
[10200,7,"[[101,7000],[103,7000]]",200,"[[111,3500],[601,700]]","[[1,6]]",null,"[[111,3500],[601,700]]",null,{"$f":"VLOOKUP(A87,[1]Sheet1!$A:$D,4,FALSE)","v":"农场1"}]
[10200,8,"[[101,9000],[103,9000]]",390,"[[111,4000],[601,800]]","[[1,8]]",null,"[[111,4000],[601,800]]",null,{"$f":"VLOOKUP(A88,[1]Sheet1!$A:$D,4,FALSE)","v":"农场1"}]
[10200,9,"[[101,11000],[103,11000]]",590,"[[111,4500],[601,900]]","[[1,10]]",null,"[[111,4500],[601,900]]",null,{"$f":"VLOOKUP(A89,[1]Sheet1!$A:$D,4,FALSE)","v":"农场1"}]
[10200,10,"[[101,13000],[103,13000]]",980,"[[111,5500],[601,1000]]","[[1,12]]",null,"[[111,5500],[601,1000]]",null,{"$f":"VLOOKUP(A90,[1]Sheet1!$A:$D,4,FALSE)","v":"农场1"}]
[10200,11,"[[101,15000],[103,15000]]",1200,"[[111,6500],[601,1100]]","[[1,14]]",null,"[[111,6500],[601,1100]]",null,{"$f":"VLOOKUP(A91,[1]Sheet1!$A:$D,4,FALSE)","v":"农场1"}]
[10200,12,"[[101,17000],[103,17000]]",1500,"[[111,7500],[601,1200]]","[[1,15]]",null,"[[111,7500],[601,1200]]",null,{"$f":"VLOOKUP(A92,[1]Sheet1!$A:$D,4,FALSE)","v":"农场1"}]
[10200,13,"[[101,19000],[103,19000]]",1800,"[[111,8500],[601,1300]]","[[1,16]]",null,"[[111,8500],[601,1300]]",null,{"$f":"VLOOKUP(A93,[1]Sheet1!$A:$D,4,FALSE)","v":"农场1"}]
[10200,14,"[[101,23000],[103,23000]]",2100,"[[111,9500],[601,1400]]","[[1,16]]",null,"[[111,9500],[601,1400]]",null,{"$f":"VLOOKUP(A94,[1]Sheet1!$A:$D,4,FALSE)","v":"农场1"}]
[10200,15,"[[101,25000],[103,25000]]",2250,"[[111,10500],[601,1500]]","[[1,17]]",null,"[[111,10500],[601,1500]]",null,{"$f":"VLOOKUP(A95,[1]Sheet1!$A:$D,4,FALSE)","v":"农场1"}]
[10200,16,"[[101,30000],[103,30000]]",2430,"[[111,11500],[601,1600]]","[[1,17]]",null,"[[111,11500],[601,1600]]",null,{"$f":"VLOOKUP(A96,[1]Sheet1!$A:$D,4,FALSE)","v":"农场1"}]
[10200,17,"[[101,35000],[103,35000]]",2910,"[[111,12500],[601,1700]]","[[1,18]]",null,"[[111,12500],[601,1700]]",null,{"$f":"VLOOKUP(A97,[1]Sheet1!$A:$D,4,FALSE)","v":"农场1"}]
[10200,18,"[[101,40000],[103,40000]]",3210,"[[111,13500],[601,1800]]","[[1,18]]",null,"[[111,13500],[601,1800]]",null,{"$f":"VLOOKUP(A98,[1]Sheet1!$A:$D,4,FALSE)","v":"农场1"}]
[10200,19,"[[101,45000],[103,45000]]",3410,"[[111,14500],[601,1900]]","[[1,19]]",null,"[[111,14500],[601,1900]]",null,{"$f":"VLOOKUP(A99,[1]Sheet1!$A:$D,4,FALSE)","v":"农场1"}]
[10200,20,"[[101,50000],[103,50000]]",3890,"[[111,15500],[601,2000]]","[[1,19]]",null,"[[111,15500],[601,2000]]",null,{"$f":"VLOOKUP(A100,[1]Sheet1!$A:$D,4,FALSE)","v":"农场1"}]
[10200,21,"[[101,55000],[103,55000]]",4180,"[[111,16500],[601,2100]]","[[1,20]]",null,"[[111,16500],[601,2100]]",null,{"$f":"VLOOKUP(A101,[1]Sheet1!$A:$D,4,FALSE)","v":"农场1"}]
[10200,22,"[[101,60000],[103,60000]]",4480,"[[111,17500],[601,2200]]","[[1,20]]",null,"[[111,17500],[601,2200]]",null,{"$f":"VLOOKUP(A102,[1]Sheet1!$A:$D,4,FALSE)","v":"农场1"}]
[10200,23,"[[101,70000],[103,70000]]",4860,"[[111,18500],[601,2300]]","[[1,21]]",null,"[[111,18500],[601,2300]]",null,{"$f":"VLOOKUP(A103,[1]Sheet1!$A:$D,4,FALSE)","v":"农场1"}]
[10200,24,"[[101,80000],[103,80000]]",5840,"[[111,19500],[601,2400]]","[[1,21]]",null,"[[111,19500],[601,2400]]",null,{"$f":"VLOOKUP(A104,[1]Sheet1!$A:$D,4,FALSE)","v":"农场1"}]
[10200,25,"[[101,100000],[103,100000]]",6810,"[[111,20500],[601,2500]]","[[1,22]]",null,"[[111,20500],[601,2500]]",null,{"$f":"VLOOKUP(A105,[1]Sheet1!$A:$D,4,FALSE)","v":"农场1"}]
[10200,26,"[[101,110000],[103,110000]]",7780,"[[111,21500],[601,2600]]","[[1,23]]",null,"[[111,21500],[601,2600]]",null,{"$f":"VLOOKUP(A106,[1]Sheet1!$A:$D,4,FALSE)","v":"农场1"}]
[10200,27,"[[101,120000],[103,120000]]",9770,"[[111,22500],[601,2700]]","[[1,24]]",null,"[[111,22500],[601,2700]]",null,{"$f":"VLOOKUP(A107,[1]Sheet1!$A:$D,4,FALSE)","v":"农场1"}]
[10200,28,"[[101,150000],[103,150000]]",12150,"[[111,23500],[601,2800]]","[[1,25]]",null,"[[111,23500],[601,2800]]",null,{"$f":"VLOOKUP(A108,[1]Sheet1!$A:$D,4,FALSE)","v":"农场1"}]
[10200,29,"[[101,200000],[103,200000]]",14580,"[[111,24500],[601,2900]]","[[1,25]]",null,"[[111,24500],[601,2900]]",null,{"$f":"VLOOKUP(A109,[1]Sheet1!$A:$D,4,FALSE)","v":"农场1"}]
[10200,30,null,null,"[[111,26000],[601,3000]]",null,null,"[[111,26000],[601,3000]]",null,{"$f":"VLOOKUP(A110,[1]Sheet1!$A:$D,4,FALSE)","v":"农场1"}]
[10201,0,"[[101,100],[103,100]]",10,"[[112,0]]","[[1,2]]",null,"[[112,0]]",null,{"$f":"VLOOKUP(A111,[1]Sheet1!$A:$D,4,FALSE)","v":"采石处1"}]
[10201,1,"[[101,300],[103,300]]",10,"[[112,500],[601,100]]","[[1,2]]",null,"[[112,500],[601,100]]",null,{"$f":"VLOOKUP(A112,[1]Sheet1!$A:$D,4,FALSE)","v":"采石处1"}]
[10201,2,"[[101,900],[103,900]]",20,"[[112,700],[601,200]]","[[1,3]]",null,"[[112,700],[601,200]]",null,{"$f":"VLOOKUP(A113,[1]Sheet1!$A:$D,4,FALSE)","v":"采石处1"}]
[10201,3,"[[101,1500],[103,1500]]",30,"[[112,1000],[601,300]]","[[1,3]]",null,"[[112,1000],[601,300]]",null,{"$f":"VLOOKUP(A114,[1]Sheet1!$A:$D,4,FALSE)","v":"采石处1"}]
[10201,4,"[[101,3000],[103,3000]]",60,"[[112,1500],[601,400]]","[[1,4]]",null,"[[112,1500],[601,400]]",null,{"$f":"VLOOKUP(A115,[1]Sheet1!$A:$D,4,FALSE)","v":"采石处1"}]
[10201,5,"[[101,4000],[103,4000]]",90,"[[112,2000],[601,500]]","[[1,4]]",null,"[[112,2000],[601,500]]",null,{"$f":"VLOOKUP(A116,[1]Sheet1!$A:$D,4,FALSE)","v":"采石处1"}]
[10201,6,"[[101,5500],[103,5500]]",150,"[[112,3000],[601,600]]","[[1,4]]",null,"[[112,3000],[601,600]]",null,{"$f":"VLOOKUP(A117,[1]Sheet1!$A:$D,4,FALSE)","v":"采石处1"}]
[10201,7,"[[101,7000],[103,7000]]",200,"[[112,3500],[601,700]]","[[1,6]]",null,"[[112,3500],[601,700]]",null,{"$f":"VLOOKUP(A118,[1]Sheet1!$A:$D,4,FALSE)","v":"采石处1"}]
[10201,8,"[[101,9000],[103,9000]]",390,"[[112,4000],[601,800]]","[[1,8]]",null,"[[112,4000],[601,800]]",null,{"$f":"VLOOKUP(A119,[1]Sheet1!$A:$D,4,FALSE)","v":"采石处1"}]
[10201,9,"[[101,11000],[103,11000]]",590,"[[112,4500],[601,900]]","[[1,10]]",null,"[[112,4500],[601,900]]",null,{"$f":"VLOOKUP(A120,[1]Sheet1!$A:$D,4,FALSE)","v":"采石处1"}]
[10201,10,"[[101,13000],[103,13000]]",980,"[[112,5500],[601,1000]]","[[1,12]]",null,"[[112,5500],[601,1000]]",null,{"$f":"VLOOKUP(A121,[1]Sheet1!$A:$D,4,FALSE)","v":"采石处1"}]
[10201,11,"[[101,15000],[103,15000]]",1200,"[[112,6500],[601,1100]]","[[1,14]]",null,"[[112,6500],[601,1100]]",null,{"$f":"VLOOKUP(A122,[1]Sheet1!$A:$D,4,FALSE)","v":"采石处1"}]
[10201,12,"[[101,17000],[103,17000]]",1500,"[[112,7500],[601,1200]]","[[1,15]]",null,"[[112,7500],[601,1200]]",null,{"$f":"VLOOKUP(A123,[1]Sheet1!$A:$D,4,FALSE)","v":"采石处1"}]
[10201,13,"[[101,19000],[103,19000]]",1800,"[[112,8500],[601,1300]]","[[1,16]]",null,"[[112,8500],[601,1300]]",null,{"$f":"VLOOKUP(A124,[1]Sheet1!$A:$D,4,FALSE)","v":"采石处1"}]
[10201,14,"[[101,23000],[103,23000]]",2100,"[[112,9500],[601,1400]]","[[1,16]]",null,"[[112,9500],[601,1400]]",null,{"$f":"VLOOKUP(A125,[1]Sheet1!$A:$D,4,FALSE)","v":"采石处1"}]
[10201,15,"[[101,25000],[103,25000]]",2250,"[[112,10500],[601,1500]]","[[1,17]]",null,"[[112,10500],[601,1500]]",null,{"$f":"VLOOKUP(A126,[1]Sheet1!$A:$D,4,FALSE)","v":"采石处1"}]
[10201,16,"[[101,30000],[103,30000]]",2430,"[[112,11500],[601,1600]]","[[1,17]]",null,"[[112,11500],[601,1600]]",null,{"$f":"VLOOKUP(A127,[1]Sheet1!$A:$D,4,FALSE)","v":"采石处1"}]
[10201,17,"[[101,35000],[103,35000]]",2910,"[[112,12500],[601,1700]]","[[1,18]]",null,"[[112,12500],[601,1700]]",null,{"$f":"VLOOKUP(A128,[1]Sheet1!$A:$D,4,FALSE)","v":"采石处1"}]
[10201,18,"[[101,40000],[103,40000]]",3210,"[[112,13500],[601,1800]]","[[1,18]]",null,"[[112,13500],[601,1800]]",null,{"$f":"VLOOKUP(A129,[1]Sheet1!$A:$D,4,FALSE)","v":"采石处1"}]
[10201,19,"[[101,45000],[103,45000]]",3410,"[[112,14500],[601,1900]]","[[1,19]]",null,"[[112,14500],[601,1900]]",null,{"$f":"VLOOKUP(A130,[1]Sheet1!$A:$D,4,FALSE)","v":"采石处1"}]
[10201,20,"[[101,50000],[103,50000]]",3890,"[[112,15500],[601,2000]]","[[1,19]]",null,"[[112,15500],[601,2000]]",null,{"$f":"VLOOKUP(A131,[1]Sheet1!$A:$D,4,FALSE)","v":"采石处1"}]
[10201,21,"[[101,55000],[103,55000]]",4180,"[[112,16500],[601,2100]]","[[1,20]]",null,"[[112,16500],[601,2100]]",null,{"$f":"VLOOKUP(A132,[1]Sheet1!$A:$D,4,FALSE)","v":"采石处1"}]
[10201,22,"[[101,60000],[103,60000]]",4480,"[[112,17500],[601,2200]]","[[1,20]]",null,"[[112,17500],[601,2200]]",null,{"$f":"VLOOKUP(A133,[1]Sheet1!$A:$D,4,FALSE)","v":"采石处1"}]
[10201,23,"[[101,70000],[103,70000]]",4860,"[[112,18500],[601,2300]]","[[1,21]]",null,"[[112,18500],[601,2300]]",null,{"$f":"VLOOKUP(A134,[1]Sheet1!$A:$D,4,FALSE)","v":"采石处1"}]
[10201,24,"[[101,80000],[103,80000]]",5840,"[[112,19500],[601,2400]]","[[1,21]]",null,"[[112,19500],[601,2400]]",null,{"$f":"VLOOKUP(A135,[1]Sheet1!$A:$D,4,FALSE)","v":"采石处1"}]
[10201,25,"[[101,100000],[103,100000]]",6810,"[[112,20500],[601,2500]]","[[1,22]]",null,"[[112,20500],[601,2500]]",null,{"$f":"VLOOKUP(A136,[1]Sheet1!$A:$D,4,FALSE)","v":"采石处1"}]
[10201,26,"[[101,110000],[103,110000]]",7780,"[[112,21500],[601,2600]]","[[1,23]]",null,"[[112,21500],[601,2600]]",null,{"$f":"VLOOKUP(A137,[1]Sheet1!$A:$D,4,FALSE)","v":"采石处1"}]
[10201,27,"[[101,120000],[103,120000]]",9770,"[[112,22500],[601,2700]]","[[1,24]]",null,"[[112,22500],[601,2700]]",null,{"$f":"VLOOKUP(A138,[1]Sheet1!$A:$D,4,FALSE)","v":"采石处1"}]
[10201,28,"[[101,150000],[103,150000]]",12150,"[[112,23500],[601,2800]]","[[1,25]]",null,"[[112,23500],[601,2800]]",null,{"$f":"VLOOKUP(A139,[1]Sheet1!$A:$D,4,FALSE)","v":"采石处1"}]
[10201,29,"[[101,200000],[103,200000]]",14580,"[[112,24500],[601,2900]]","[[1,25]]",null,"[[112,24500],[601,2900]]",null,{"$f":"VLOOKUP(A140,[1]Sheet1!$A:$D,4,FALSE)","v":"采石处1"}]
[10201,30,null,null,"[[112,26000],[601,3000]]",null,null,"[[112,26000],[601,3000]]",null,{"$f":"VLOOKUP(A141,[1]Sheet1!$A:$D,4,FALSE)","v":"采石处1"}]
[10300,0,"[[101,100],[103,100]]",10,"[[113,0]]","[[1,2]]",null,"[[113,0]]",null,{"$f":"VLOOKUP(A142,[1]Sheet1!$A:$D,4,FALSE)","v":"伐木场1"}]
[10300,1,"[[101,300],[103,300]]",10,"[[113,500],[601,100]]","[[1,2]]",null,"[[113,500],[601,100]]",null,{"$f":"VLOOKUP(A143,[1]Sheet1!$A:$D,4,FALSE)","v":"伐木场1"}]
[10300,2,"[[101,900],[103,900]]",20,"[[113,700],[601,200]]","[[1,3]]",null,"[[113,700],[601,200]]",null,{"$f":"VLOOKUP(A144,[1]Sheet1!$A:$D,4,FALSE)","v":"伐木场1"}]
[10300,3,"[[101,1500],[103,1500]]",30,"[[113,1000],[601,300]]","[[1,3]]",null,"[[113,1000],[601,300]]",null,{"$f":"VLOOKUP(A145,[1]Sheet1!$A:$D,4,FALSE)","v":"伐木场1"}]
[10300,4,"[[101,3000],[103,3000]]",60,"[[113,1500],[601,400]]","[[1,5]]",null,"[[113,1500],[601,400]]",null,{"$f":"VLOOKUP(A146,[1]Sheet1!$A:$D,4,FALSE)","v":"伐木场1"}]
[10300,5,"[[101,4000],[103,4000]]",90,"[[113,2000],[601,500]]","[[1,5]]",null,"[[113,2000],[601,500]]",null,{"$f":"VLOOKUP(A147,[1]Sheet1!$A:$D,4,FALSE)","v":"伐木场1"}]
[10300,6,"[[101,5500],[103,5500]]",150,"[[113,3000],[601,600]]","[[1,5]]",null,"[[113,3000],[601,600]]",null,{"$f":"VLOOKUP(A148,[1]Sheet1!$A:$D,4,FALSE)","v":"伐木场1"}]
[10300,7,"[[101,7000],[103,7000]]",200,"[[113,3500],[601,700]]","[[1,6]]",null,"[[113,3500],[601,700]]",null,{"$f":"VLOOKUP(A149,[1]Sheet1!$A:$D,4,FALSE)","v":"伐木场1"}]
[10300,8,"[[101,9000],[103,9000]]",390,"[[113,4000],[601,800]]","[[1,8]]",null,"[[113,4000],[601,800]]",null,{"$f":"VLOOKUP(A150,[1]Sheet1!$A:$D,4,FALSE)","v":"伐木场1"}]
[10300,9,"[[101,11000],[103,11000]]",590,"[[113,4500],[601,900]]","[[1,10]]",null,"[[113,4500],[601,900]]",null,{"$f":"VLOOKUP(A151,[1]Sheet1!$A:$D,4,FALSE)","v":"伐木场1"}]
[10300,10,"[[101,13000],[103,13000]]",980,"[[113,5500],[601,1000]]","[[1,12]]",null,"[[113,5500],[601,1000]]",null,{"$f":"VLOOKUP(A152,[1]Sheet1!$A:$D,4,FALSE)","v":"伐木场1"}]
[10300,11,"[[101,15000],[103,15000]]",1200,"[[113,6500],[601,1100]]","[[1,14]]",null,"[[113,6500],[601,1100]]",null,{"$f":"VLOOKUP(A153,[1]Sheet1!$A:$D,4,FALSE)","v":"伐木场1"}]
[10300,12,"[[101,17000],[103,17000]]",1500,"[[113,7500],[601,1200]]","[[1,15]]",null,"[[113,7500],[601,1200]]",null,{"$f":"VLOOKUP(A154,[1]Sheet1!$A:$D,4,FALSE)","v":"伐木场1"}]
[10300,13,"[[101,19000],[103,19000]]",1800,"[[113,8500],[601,1300]]","[[1,16]]",null,"[[113,8500],[601,1300]]",null,{"$f":"VLOOKUP(A155,[1]Sheet1!$A:$D,4,FALSE)","v":"伐木场1"}]
[10300,14,"[[101,23000],[103,23000]]",2100,"[[113,9500],[601,1400]]","[[1,16]]",null,"[[113,9500],[601,1400]]",null,{"$f":"VLOOKUP(A156,[1]Sheet1!$A:$D,4,FALSE)","v":"伐木场1"}]
[10300,15,"[[101,25000],[103,25000]]",2250,"[[113,10500],[601,1500]]","[[1,17]]",null,"[[113,10500],[601,1500]]",null,{"$f":"VLOOKUP(A157,[1]Sheet1!$A:$D,4,FALSE)","v":"伐木场1"}]
[10300,16,"[[101,30000],[103,30000]]",2430,"[[113,11500],[601,1600]]","[[1,17]]",null,"[[113,11500],[601,1600]]",null,{"$f":"VLOOKUP(A158,[1]Sheet1!$A:$D,4,FALSE)","v":"伐木场1"}]
[10300,17,"[[101,35000],[103,35000]]",2910,"[[113,12500],[601,1700]]","[[1,18]]",null,"[[113,12500],[601,1700]]",null,{"$f":"VLOOKUP(A159,[1]Sheet1!$A:$D,4,FALSE)","v":"伐木场1"}]
[10300,18,"[[101,40000],[103,40000]]",3210,"[[113,13500],[601,1800]]","[[1,18]]",null,"[[113,13500],[601,1800]]",null,{"$f":"VLOOKUP(A160,[1]Sheet1!$A:$D,4,FALSE)","v":"伐木场1"}]
[10300,19,"[[101,45000],[103,45000]]",3410,"[[113,14500],[601,1900]]","[[1,19]]",null,"[[113,14500],[601,1900]]",null,{"$f":"VLOOKUP(A161,[1]Sheet1!$A:$D,4,FALSE)","v":"伐木场1"}]
[10300,20,"[[101,50000],[103,50000]]",3890,"[[113,15500],[601,2000]]","[[1,19]]",null,"[[113,15500],[601,2000]]",null,{"$f":"VLOOKUP(A162,[1]Sheet1!$A:$D,4,FALSE)","v":"伐木场1"}]
[10300,21,"[[101,55000],[103,55000]]",4180,"[[113,16500],[601,2100]]","[[1,20]]",null,"[[113,16500],[601,2100]]",null,{"$f":"VLOOKUP(A163,[1]Sheet1!$A:$D,4,FALSE)","v":"伐木场1"}]
[10300,22,"[[101,60000],[103,60000]]",4480,"[[113,17500],[601,2200]]","[[1,20]]",null,"[[113,17500],[601,2200]]",null,{"$f":"VLOOKUP(A164,[1]Sheet1!$A:$D,4,FALSE)","v":"伐木场1"}]
[10300,23,"[[101,70000],[103,70000]]",4860,"[[113,18500],[601,2300]]","[[1,21]]",null,"[[113,18500],[601,2300]]",null,{"$f":"VLOOKUP(A165,[1]Sheet1!$A:$D,4,FALSE)","v":"伐木场1"}]
[10300,24,"[[101,80000],[103,80000]]",5840,"[[113,19500],[601,2400]]","[[1,21]]",null,"[[113,19500],[601,2400]]",null,{"$f":"VLOOKUP(A166,[1]Sheet1!$A:$D,4,FALSE)","v":"伐木场1"}]
[10300,25,"[[101,100000],[103,100000]]",6810,"[[113,20500],[601,2500]]","[[1,22]]",null,"[[113,20500],[601,2500]]",null,{"$f":"VLOOKUP(A167,[1]Sheet1!$A:$D,4,FALSE)","v":"伐木场1"}]
[10300,26,"[[101,110000],[103,110000]]",7780,"[[113,21500],[601,2600]]","[[1,23]]",null,"[[113,21500],[601,2600]]",null,{"$f":"VLOOKUP(A168,[1]Sheet1!$A:$D,4,FALSE)","v":"伐木场1"}]
[10300,27,"[[101,120000],[103,120000]]",9770,"[[113,22500],[601,2700]]","[[1,24]]",null,"[[113,22500],[601,2700]]",null,{"$f":"VLOOKUP(A169,[1]Sheet1!$A:$D,4,FALSE)","v":"伐木场1"}]
[10300,28,"[[101,150000],[103,150000]]",12150,"[[113,23500],[601,2800]]","[[1,25]]",null,"[[113,23500],[601,2800]]",null,{"$f":"VLOOKUP(A170,[1]Sheet1!$A:$D,4,FALSE)","v":"伐木场1"}]
[10300,29,"[[101,200000],[103,200000]]",14580,"[[113,24500],[601,2900]]","[[1,25]]",null,"[[113,24500],[601,2900]]",null,{"$f":"VLOOKUP(A171,[1]Sheet1!$A:$D,4,FALSE)","v":"伐木场1"}]
[10300,30,null,null,"[[113,26000],[601,3000]]",null,null,"[[113,26000],[601,3000]]",null,{"$f":"VLOOKUP(A172,[1]Sheet1!$A:$D,4,FALSE)","v":"伐木场1"}]
[10301,0,"[[101,100],[103,100]]",10,"[[114,0]]","[[1,2]]",null,"[[114,0]]",null,{"$f":"VLOOKUP(A173,[1]Sheet1!$A:$D,4,FALSE)","v":"铁矿厂1"}]
[10301,1,"[[101,300],[103,300]]",10,"[[114,500],[601,100]]","[[1,2]]",null,"[[114,500],[601,100]]",null,{"$f":"VLOOKUP(A174,[1]Sheet1!$A:$D,4,FALSE)","v":"铁矿厂1"}]
[10301,2,"[[101,900],[103,900]]",20,"[[114,700],[601,200]]","[[1,3]]",null,"[[114,700],[601,200]]",null,{"$f":"VLOOKUP(A175,[1]Sheet1!$A:$D,4,FALSE)","v":"铁矿厂1"}]
[10301,3,"[[101,1500],[103,1500]]",30,"[[114,1000],[601,300]]","[[1,3]]",null,"[[114,1000],[601,300]]",null,{"$f":"VLOOKUP(A176,[1]Sheet1!$A:$D,4,FALSE)","v":"铁矿厂1"}]
[10301,4,"[[101,3000],[103,3000]]",60,"[[114,1500],[601,400]]","[[1,5]]",null,"[[114,1500],[601,400]]",null,{"$f":"VLOOKUP(A177,[1]Sheet1!$A:$D,4,FALSE)","v":"铁矿厂1"}]
[10301,5,"[[101,4000],[103,4000]]",90,"[[114,2000],[601,500]]","[[1,5]]",null,"[[114,2000],[601,500]]",null,{"$f":"VLOOKUP(A178,[1]Sheet1!$A:$D,4,FALSE)","v":"铁矿厂1"}]
[10301,6,"[[101,5500],[103,5500]]",150,"[[114,3000],[601,600]]","[[1,5]]",null,"[[114,3000],[601,600]]",null,{"$f":"VLOOKUP(A179,[1]Sheet1!$A:$D,4,FALSE)","v":"铁矿厂1"}]
[10301,7,"[[101,7000],[103,7000]]",200,"[[114,3500],[601,700]]","[[1,6]]",null,"[[114,3500],[601,700]]",null,{"$f":"VLOOKUP(A180,[1]Sheet1!$A:$D,4,FALSE)","v":"铁矿厂1"}]
[10301,8,"[[101,9000],[103,9000]]",390,"[[114,4000],[601,800]]","[[1,8]]",null,"[[114,4000],[601,800]]",null,{"$f":"VLOOKUP(A181,[1]Sheet1!$A:$D,4,FALSE)","v":"铁矿厂1"}]
[10301,9,"[[101,11000],[103,11000]]",590,"[[114,4500],[601,900]]","[[1,10]]",null,"[[114,4500],[601,900]]",null,{"$f":"VLOOKUP(A182,[1]Sheet1!$A:$D,4,FALSE)","v":"铁矿厂1"}]
[10301,10,"[[101,13000],[103,13000]]",980,"[[114,5500],[601,1000]]","[[1,12]]",null,"[[114,5500],[601,1000]]",null,{"$f":"VLOOKUP(A183,[1]Sheet1!$A:$D,4,FALSE)","v":"铁矿厂1"}]
[10301,11,"[[101,15000],[103,15000]]",1200,"[[114,6500],[601,1100]]","[[1,14]]",null,"[[114,6500],[601,1100]]",null,{"$f":"VLOOKUP(A184,[1]Sheet1!$A:$D,4,FALSE)","v":"铁矿厂1"}]
[10301,12,"[[101,17000],[103,17000]]",1500,"[[114,7500],[601,1200]]","[[1,15]]",null,"[[114,7500],[601,1200]]",null,{"$f":"VLOOKUP(A185,[1]Sheet1!$A:$D,4,FALSE)","v":"铁矿厂1"}]
[10301,13,"[[101,19000],[103,19000]]",1800,"[[114,8500],[601,1300]]","[[1,16]]",null,"[[114,8500],[601,1300]]",null,{"$f":"VLOOKUP(A186,[1]Sheet1!$A:$D,4,FALSE)","v":"铁矿厂1"}]
[10301,14,"[[101,23000],[103,23000]]",2100,"[[114,9500],[601,1400]]","[[1,16]]",null,"[[114,9500],[601,1400]]",null,{"$f":"VLOOKUP(A187,[1]Sheet1!$A:$D,4,FALSE)","v":"铁矿厂1"}]
[10301,15,"[[101,25000],[103,25000]]",2250,"[[114,10500],[601,1500]]","[[1,17]]",null,"[[114,10500],[601,1500]]",null,{"$f":"VLOOKUP(A188,[1]Sheet1!$A:$D,4,FALSE)","v":"铁矿厂1"}]
[10301,16,"[[101,30000],[103,30000]]",2430,"[[114,11500],[601,1600]]","[[1,17]]",null,"[[114,11500],[601,1600]]",null,{"$f":"VLOOKUP(A189,[1]Sheet1!$A:$D,4,FALSE)","v":"铁矿厂1"}]
[10301,17,"[[101,35000],[103,35000]]",2910,"[[114,12500],[601,1700]]","[[1,18]]",null,"[[114,12500],[601,1700]]",null,{"$f":"VLOOKUP(A190,[1]Sheet1!$A:$D,4,FALSE)","v":"铁矿厂1"}]
[10301,18,"[[101,40000],[103,40000]]",3210,"[[114,13500],[601,1800]]","[[1,18]]",null,"[[114,13500],[601,1800]]",null,{"$f":"VLOOKUP(A191,[1]Sheet1!$A:$D,4,FALSE)","v":"铁矿厂1"}]
[10301,19,"[[101,45000],[103,45000]]",3410,"[[114,14500],[601,1900]]","[[1,19]]",null,"[[114,14500],[601,1900]]",null,{"$f":"VLOOKUP(A192,[1]Sheet1!$A:$D,4,FALSE)","v":"铁矿厂1"}]
[10301,20,"[[101,50000],[103,50000]]",3890,"[[114,15500],[601,2000]]","[[1,19]]",null,"[[114,15500],[601,2000]]",null,{"$f":"VLOOKUP(A193,[1]Sheet1!$A:$D,4,FALSE)","v":"铁矿厂1"}]
[10301,21,"[[101,55000],[103,55000]]",4180,"[[114,16500],[601,2100]]","[[1,20]]",null,"[[114,16500],[601,2100]]",null,{"$f":"VLOOKUP(A194,[1]Sheet1!$A:$D,4,FALSE)","v":"铁矿厂1"}]
[10301,22,"[[101,60000],[103,60000]]",4480,"[[114,17500],[601,2200]]","[[1,20]]",null,"[[114,17500],[601,2200]]",null,{"$f":"VLOOKUP(A195,[1]Sheet1!$A:$D,4,FALSE)","v":"铁矿厂1"}]
[10301,23,"[[101,70000],[103,70000]]",4860,"[[114,18500],[601,2300]]","[[1,21]]",null,"[[114,18500],[601,2300]]",null,{"$f":"VLOOKUP(A196,[1]Sheet1!$A:$D,4,FALSE)","v":"铁矿厂1"}]
[10301,24,"[[101,80000],[103,80000]]",5840,"[[114,19500],[601,2400]]","[[1,21]]",null,"[[114,19500],[601,2400]]",null,{"$f":"VLOOKUP(A197,[1]Sheet1!$A:$D,4,FALSE)","v":"铁矿厂1"}]
[10301,25,"[[101,100000],[103,100000]]",6810,"[[114,20500],[601,2500]]","[[1,22]]",null,"[[114,20500],[601,2500]]",null,{"$f":"VLOOKUP(A198,[1]Sheet1!$A:$D,4,FALSE)","v":"铁矿厂1"}]
[10301,26,"[[101,110000],[103,110000]]",7780,"[[114,21500],[601,2600]]","[[1,23]]",null,"[[114,21500],[601,2600]]",null,{"$f":"VLOOKUP(A199,[1]Sheet1!$A:$D,4,FALSE)","v":"铁矿厂1"}]
[10301,27,"[[101,120000],[103,120000]]",9770,"[[114,22500],[601,2700]]","[[1,24]]",null,"[[114,22500],[601,2700]]",null,{"$f":"VLOOKUP(A200,[1]Sheet1!$A:$D,4,FALSE)","v":"铁矿厂1"}]
[10301,28,"[[101,150000],[103,150000]]",12150,"[[114,23500],[601,2800]]","[[1,25]]",null,"[[114,23500],[601,2800]]",null,{"$f":"VLOOKUP(A201,[1]Sheet1!$A:$D,4,FALSE)","v":"铁矿厂1"}]
[10301,29,"[[101,200000],[103,200000]]",14580,"[[114,24500],[601,2900]]","[[1,25]]",null,"[[114,24500],[601,2900]]",null,{"$f":"VLOOKUP(A202,[1]Sheet1!$A:$D,4,FALSE)","v":"铁矿厂1"}]
[10301,30,null,null,"[[114,26000],[601,3000]]",null,null,"[[114,26000],[601,3000]]",null,{"$f":"VLOOKUP(A203,[1]Sheet1!$A:$D,4,FALSE)","v":"铁矿厂1"}]
[10600,0,"[[101,100],[103,100]]",10,"[[111,0]]","[[1,5]]",null,"[[111,0]]",null,{"$f":"VLOOKUP(A204,[1]Sheet1!$A:$D,4,FALSE)","v":"农场2"}]
[10600,1,"[[101,300],[103,300]]",10,"[[111,500],[601,100]]","[[1,5]]",null,"[[111,500],[601,100]]",null,{"$f":"VLOOKUP(A205,[1]Sheet1!$A:$D,4,FALSE)","v":"农场2"}]
[10600,2,"[[101,900],[103,900]]",20,"[[111,700],[601,200]]","[[1,5]]",null,"[[111,700],[601,200]]",null,{"$f":"VLOOKUP(A206,[1]Sheet1!$A:$D,4,FALSE)","v":"农场2"}]
[10600,3,"[[101,1500],[103,1500]]",30,"[[111,1000],[601,300]]","[[1,5]]",null,"[[111,1000],[601,300]]",null,{"$f":"VLOOKUP(A207,[1]Sheet1!$A:$D,4,FALSE)","v":"农场2"}]
[10600,4,"[[101,3000],[103,3000]]",60,"[[111,1500],[601,400]]","[[1,6]]",null,"[[111,1500],[601,400]]",null,{"$f":"VLOOKUP(A208,[1]Sheet1!$A:$D,4,FALSE)","v":"农场2"}]
[10600,5,"[[101,4000],[103,4000]]",90,"[[111,2000],[601,500]]","[[1,10]]",null,"[[111,2000],[601,500]]",null,{"$f":"VLOOKUP(A209,[1]Sheet1!$A:$D,4,FALSE)","v":"农场2"}]
[10600,6,"[[101,5500],[103,5500]]",150,"[[111,3000],[601,600]]","[[1,12]]",null,"[[111,3000],[601,600]]",null,{"$f":"VLOOKUP(A210,[1]Sheet1!$A:$D,4,FALSE)","v":"农场2"}]
[10600,7,"[[101,7000],[103,7000]]",200,"[[111,3500],[601,700]]","[[1,13]]",null,"[[111,3500],[601,700]]",null,{"$f":"VLOOKUP(A211,[1]Sheet1!$A:$D,4,FALSE)","v":"农场2"}]
[10600,8,"[[101,9000],[103,9000]]",390,"[[111,4000],[601,800]]","[[1,15]]",null,"[[111,4000],[601,800]]",null,{"$f":"VLOOKUP(A212,[1]Sheet1!$A:$D,4,FALSE)","v":"农场2"}]
[10600,9,"[[101,11000],[103,11000]]",590,"[[111,4500],[601,900]]","[[1,15]]",null,"[[111,4500],[601,900]]",null,{"$f":"VLOOKUP(A213,[1]Sheet1!$A:$D,4,FALSE)","v":"农场2"}]
[10600,10,"[[101,13000],[103,13000]]",980,"[[111,5500],[601,1000]]","[[1,16]]",null,"[[111,5500],[601,1000]]",null,{"$f":"VLOOKUP(A214,[1]Sheet1!$A:$D,4,FALSE)","v":"农场2"}]
[10600,11,"[[101,15000],[103,15000]]",1200,"[[111,6500],[601,1100]]","[[1,17]]",null,"[[111,6500],[601,1100]]",null,{"$f":"VLOOKUP(A215,[1]Sheet1!$A:$D,4,FALSE)","v":"农场2"}]
[10600,12,"[[101,17000],[103,17000]]",1500,"[[111,7500],[601,1200]]","[[1,17]]",null,"[[111,7500],[601,1200]]",null,{"$f":"VLOOKUP(A216,[1]Sheet1!$A:$D,4,FALSE)","v":"农场2"}]
[10600,13,"[[101,19000],[103,19000]]",1800,"[[111,8500],[601,1300]]","[[1,18]]",null,"[[111,8500],[601,1300]]",null,{"$f":"VLOOKUP(A217,[1]Sheet1!$A:$D,4,FALSE)","v":"农场2"}]
[10600,14,"[[101,23000],[103,23000]]",2100,"[[111,9500],[601,1400]]","[[1,18]]",null,"[[111,9500],[601,1400]]",null,{"$f":"VLOOKUP(A218,[1]Sheet1!$A:$D,4,FALSE)","v":"农场2"}]
[10600,15,"[[101,25000],[103,25000]]",2250,"[[111,10500],[601,1500]]","[[1,19]]",null,"[[111,10500],[601,1500]]",null,{"$f":"VLOOKUP(A219,[1]Sheet1!$A:$D,4,FALSE)","v":"农场2"}]
[10600,16,"[[101,30000],[103,30000]]",2430,"[[111,11500],[601,1600]]","[[1,19]]",null,"[[111,11500],[601,1600]]",null,{"$f":"VLOOKUP(A220,[1]Sheet1!$A:$D,4,FALSE)","v":"农场2"}]
[10600,17,"[[101,35000],[103,35000]]",2910,"[[111,12500],[601,1700]]","[[1,20]]",null,"[[111,12500],[601,1700]]",null,{"$f":"VLOOKUP(A221,[1]Sheet1!$A:$D,4,FALSE)","v":"农场2"}]
[10600,18,"[[101,40000],[103,40000]]",3210,"[[111,13500],[601,1800]]","[[1,20]]",null,"[[111,13500],[601,1800]]",null,{"$f":"VLOOKUP(A222,[1]Sheet1!$A:$D,4,FALSE)","v":"农场2"}]
[10600,19,"[[101,45000],[103,45000]]",3410,"[[111,14500],[601,1900]]","[[1,21]]",null,"[[111,14500],[601,1900]]",null,{"$f":"VLOOKUP(A223,[1]Sheet1!$A:$D,4,FALSE)","v":"农场2"}]
[10600,20,"[[101,50000],[103,50000]]",3890,"[[111,15500],[601,2000]]","[[1,22]]",null,"[[111,15500],[601,2000]]",null,{"$f":"VLOOKUP(A224,[1]Sheet1!$A:$D,4,FALSE)","v":"农场2"}]
[10600,21,"[[101,55000],[103,55000]]",4180,"[[111,16500],[601,2100]]","[[1,23]]",null,"[[111,16500],[601,2100]]",null,{"$f":"VLOOKUP(A225,[1]Sheet1!$A:$D,4,FALSE)","v":"农场2"}]
[10600,22,"[[101,60000],[103,60000]]",4480,"[[111,17500],[601,2200]]","[[1,24]]",null,"[[111,17500],[601,2200]]",null,{"$f":"VLOOKUP(A226,[1]Sheet1!$A:$D,4,FALSE)","v":"农场2"}]
[10600,23,"[[101,70000],[103,70000]]",4860,"[[111,18500],[601,2300]]","[[1,25]]",null,"[[111,18500],[601,2300]]",null,{"$f":"VLOOKUP(A227,[1]Sheet1!$A:$D,4,FALSE)","v":"农场2"}]
[10600,24,"[[101,80000],[103,80000]]",5840,"[[111,19500],[601,2400]]","[[1,25]]",null,"[[111,19500],[601,2400]]",null,{"$f":"VLOOKUP(A228,[1]Sheet1!$A:$D,4,FALSE)","v":"农场2"}]
[10600,25,"[[101,100000],[103,100000]]",6810,"[[111,20500],[601,2500]]","[[1,25]]",null,"[[111,20500],[601,2500]]",null,{"$f":"VLOOKUP(A229,[1]Sheet1!$A:$D,4,FALSE)","v":"农场2"}]
[10600,26,"[[101,110000],[103,110000]]",7780,"[[111,21500],[601,2600]]","[[1,25]]",null,"[[111,21500],[601,2600]]",null,{"$f":"VLOOKUP(A230,[1]Sheet1!$A:$D,4,FALSE)","v":"农场2"}]
[10600,27,"[[101,120000],[103,120000]]",9770,"[[111,22500],[601,2700]]","[[1,25]]",null,"[[111,22500],[601,2700]]",null,{"$f":"VLOOKUP(A231,[1]Sheet1!$A:$D,4,FALSE)","v":"农场2"}]
[10600,28,"[[101,150000],[103,150000]]",12150,"[[111,23500],[601,2800]]","[[1,25]]",null,"[[111,23500],[601,2800]]",null,{"$f":"VLOOKUP(A232,[1]Sheet1!$A:$D,4,FALSE)","v":"农场2"}]
[10600,29,"[[101,200000],[103,200000]]",14580,"[[111,24500],[601,2900]]","[[1,25]]",null,"[[111,24500],[601,2900]]",null,{"$f":"VLOOKUP(A233,[1]Sheet1!$A:$D,4,FALSE)","v":"农场2"}]
[10600,30,null,null,"[[111,26000],[601,3000]]",null,null,"[[111,26000],[601,3000]]",null,{"$f":"VLOOKUP(A234,[1]Sheet1!$A:$D,4,FALSE)","v":"农场2"}]
[10601,0,"[[101,100],[103,100]]",10,"[[112,0]]","[[1,5]]",null,"[[112,0]]",null,{"$f":"VLOOKUP(A235,[1]Sheet1!$A:$D,4,FALSE)","v":"采石处2"}]
[10601,1,"[[101,300],[103,300]]",10,"[[112,500],[601,100]]","[[1,5]]",null,"[[112,500],[601,100]]",null,{"$f":"VLOOKUP(A236,[1]Sheet1!$A:$D,4,FALSE)","v":"采石处2"}]
[10601,2,"[[101,900],[103,900]]",20,"[[112,700],[601,200]]","[[1,5]]",null,"[[112,700],[601,200]]",null,{"$f":"VLOOKUP(A237,[1]Sheet1!$A:$D,4,FALSE)","v":"采石处2"}]
[10601,3,"[[101,1500],[103,1500]]",30,"[[112,1000],[601,300]]","[[1,5]]",null,"[[112,1000],[601,300]]",null,{"$f":"VLOOKUP(A238,[1]Sheet1!$A:$D,4,FALSE)","v":"采石处2"}]
[10601,4,"[[101,3000],[103,3000]]",60,"[[112,1500],[601,400]]","[[1,6]]",null,"[[112,1500],[601,400]]",null,{"$f":"VLOOKUP(A239,[1]Sheet1!$A:$D,4,FALSE)","v":"采石处2"}]
[10601,5,"[[101,4000],[103,4000]]",90,"[[112,2000],[601,500]]","[[1,10]]",null,"[[112,2000],[601,500]]",null,{"$f":"VLOOKUP(A240,[1]Sheet1!$A:$D,4,FALSE)","v":"采石处2"}]
[10601,6,"[[101,5500],[103,5500]]",150,"[[112,3000],[601,600]]","[[1,12]]",null,"[[112,3000],[601,600]]",null,{"$f":"VLOOKUP(A241,[1]Sheet1!$A:$D,4,FALSE)","v":"采石处2"}]
[10601,7,"[[101,7000],[103,7000]]",200,"[[112,3500],[601,700]]","[[1,13]]",null,"[[112,3500],[601,700]]",null,{"$f":"VLOOKUP(A242,[1]Sheet1!$A:$D,4,FALSE)","v":"采石处2"}]
[10601,8,"[[101,9000],[103,9000]]",390,"[[112,4000],[601,800]]","[[1,15]]",null,"[[112,4000],[601,800]]",null,{"$f":"VLOOKUP(A243,[1]Sheet1!$A:$D,4,FALSE)","v":"采石处2"}]
[10601,9,"[[101,11000],[103,11000]]",590,"[[112,4500],[601,900]]","[[1,15]]",null,"[[112,4500],[601,900]]",null,{"$f":"VLOOKUP(A244,[1]Sheet1!$A:$D,4,FALSE)","v":"采石处2"}]
[10601,10,"[[101,13000],[103,13000]]",980,"[[112,5500],[601,1000]]","[[1,16]]",null,"[[112,5500],[601,1000]]",null,{"$f":"VLOOKUP(A245,[1]Sheet1!$A:$D,4,FALSE)","v":"采石处2"}]
[10601,11,"[[101,15000],[103,15000]]",1200,"[[112,6500],[601,1100]]","[[1,17]]",null,"[[112,6500],[601,1100]]",null,{"$f":"VLOOKUP(A246,[1]Sheet1!$A:$D,4,FALSE)","v":"采石处2"}]
[10601,12,"[[101,17000],[103,17000]]",1500,"[[112,7500],[601,1200]]","[[1,17]]",null,"[[112,7500],[601,1200]]",null,{"$f":"VLOOKUP(A247,[1]Sheet1!$A:$D,4,FALSE)","v":"采石处2"}]
[10601,13,"[[101,19000],[103,19000]]",1800,"[[112,8500],[601,1300]]","[[1,18]]",null,"[[112,8500],[601,1300]]",null,{"$f":"VLOOKUP(A248,[1]Sheet1!$A:$D,4,FALSE)","v":"采石处2"}]
[10601,14,"[[101,23000],[103,23000]]",2100,"[[112,9500],[601,1400]]","[[1,18]]",null,"[[112,9500],[601,1400]]",null,{"$f":"VLOOKUP(A249,[1]Sheet1!$A:$D,4,FALSE)","v":"采石处2"}]
[10601,15,"[[101,25000],[103,25000]]",2250,"[[112,10500],[601,1500]]","[[1,19]]",null,"[[112,10500],[601,1500]]",null,{"$f":"VLOOKUP(A250,[1]Sheet1!$A:$D,4,FALSE)","v":"采石处2"}]
[10601,16,"[[101,30000],[103,30000]]",2430,"[[112,11500],[601,1600]]","[[1,19]]",null,"[[112,11500],[601,1600]]",null,{"$f":"VLOOKUP(A251,[1]Sheet1!$A:$D,4,FALSE)","v":"采石处2"}]
[10601,17,"[[101,35000],[103,35000]]",2910,"[[112,12500],[601,1700]]","[[1,20]]",null,"[[112,12500],[601,1700]]",null,{"$f":"VLOOKUP(A252,[1]Sheet1!$A:$D,4,FALSE)","v":"采石处2"}]
[10601,18,"[[101,40000],[103,40000]]",3210,"[[112,13500],[601,1800]]","[[1,20]]",null,"[[112,13500],[601,1800]]",null,{"$f":"VLOOKUP(A253,[1]Sheet1!$A:$D,4,FALSE)","v":"采石处2"}]
[10601,19,"[[101,45000],[103,45000]]",3410,"[[112,14500],[601,1900]]","[[1,21]]",null,"[[112,14500],[601,1900]]",null,{"$f":"VLOOKUP(A254,[1]Sheet1!$A:$D,4,FALSE)","v":"采石处2"}]
[10601,20,"[[101,50000],[103,50000]]",3890,"[[112,15500],[601,2000]]","[[1,22]]",null,"[[112,15500],[601,2000]]",null,{"$f":"VLOOKUP(A255,[1]Sheet1!$A:$D,4,FALSE)","v":"采石处2"}]
[10601,21,"[[101,55000],[103,55000]]",4180,"[[112,16500],[601,2100]]","[[1,23]]",null,"[[112,16500],[601,2100]]",null,{"$f":"VLOOKUP(A256,[1]Sheet1!$A:$D,4,FALSE)","v":"采石处2"}]
[10601,22,"[[101,60000],[103,60000]]",4480,"[[112,17500],[601,2200]]","[[1,24]]",null,"[[112,17500],[601,2200]]",null,{"$f":"VLOOKUP(A257,[1]Sheet1!$A:$D,4,FALSE)","v":"采石处2"}]
[10601,23,"[[101,70000],[103,70000]]",4860,"[[112,18500],[601,2300]]","[[1,25]]",null,"[[112,18500],[601,2300]]",null,{"$f":"VLOOKUP(A258,[1]Sheet1!$A:$D,4,FALSE)","v":"采石处2"}]
[10601,24,"[[101,80000],[103,80000]]",5840,"[[112,19500],[601,2400]]","[[1,25]]",null,"[[112,19500],[601,2400]]",null,{"$f":"VLOOKUP(A259,[1]Sheet1!$A:$D,4,FALSE)","v":"采石处2"}]
[10601,25,"[[101,100000],[103,100000]]",6810,"[[112,20500],[601,2500]]","[[1,25]]",null,"[[112,20500],[601,2500]]",null,{"$f":"VLOOKUP(A260,[1]Sheet1!$A:$D,4,FALSE)","v":"采石处2"}]
[10601,26,"[[101,110000],[103,110000]]",7780,"[[112,21500],[601,2600]]","[[1,25]]",null,"[[112,21500],[601,2600]]",null,{"$f":"VLOOKUP(A261,[1]Sheet1!$A:$D,4,FALSE)","v":"采石处2"}]
[10601,27,"[[101,120000],[103,120000]]",9770,"[[112,22500],[601,2700]]","[[1,25]]",null,"[[112,22500],[601,2700]]",null,{"$f":"VLOOKUP(A262,[1]Sheet1!$A:$D,4,FALSE)","v":"采石处2"}]
[10601,28,"[[101,150000],[103,150000]]",12150,"[[112,23500],[601,2800]]","[[1,25]]",null,"[[112,23500],[601,2800]]",null,{"$f":"VLOOKUP(A263,[1]Sheet1!$A:$D,4,FALSE)","v":"采石处2"}]
[10601,29,"[[101,200000],[103,200000]]",14580,"[[112,24500],[601,2900]]","[[1,25]]",null,"[[112,24500],[601,2900]]",null,{"$f":"VLOOKUP(A264,[1]Sheet1!$A:$D,4,FALSE)","v":"采石处2"}]
[10601,30,null,null,"[[112,26000],[601,3000]]",null,null,"[[112,26000],[601,3000]]",null,{"$f":"VLOOKUP(A265,[1]Sheet1!$A:$D,4,FALSE)","v":"采石处2"}]
[10700,0,"[[101,100],[103,100]]",10,"[[113,0]]","[[1,7]]",null,"[[113,0]]",null,{"$f":"VLOOKUP(A266,[1]Sheet1!$A:$D,4,FALSE)","v":"伐木场2"}]
[10700,1,"[[101,300],[103,300]]",10,"[[113,500],[601,100]]","[[1,7]]",null,"[[113,500],[601,100]]",null,{"$f":"VLOOKUP(A267,[1]Sheet1!$A:$D,4,FALSE)","v":"伐木场2"}]
[10700,2,"[[101,900],[103,900]]",20,"[[113,700],[601,200]]","[[1,8]]",null,"[[113,700],[601,200]]",null,{"$f":"VLOOKUP(A268,[1]Sheet1!$A:$D,4,FALSE)","v":"伐木场2"}]
[10700,3,"[[101,1500],[103,1500]]",30,"[[113,1000],[601,300]]","[[1,10]]",null,"[[113,1000],[601,300]]",null,{"$f":"VLOOKUP(A269,[1]Sheet1!$A:$D,4,FALSE)","v":"伐木场2"}]
[10700,4,"[[101,3000],[103,3000]]",60,"[[113,1500],[601,400]]","[[1,12]]",null,"[[113,1500],[601,400]]",null,{"$f":"VLOOKUP(A270,[1]Sheet1!$A:$D,4,FALSE)","v":"伐木场2"}]
[10700,5,"[[101,4000],[103,4000]]",90,"[[113,2000],[601,500]]","[[1,14]]",null,"[[113,2000],[601,500]]",null,{"$f":"VLOOKUP(A271,[1]Sheet1!$A:$D,4,FALSE)","v":"伐木场2"}]
[10700,6,"[[101,5500],[103,5500]]",150,"[[113,3000],[601,600]]","[[1,14]]",null,"[[113,3000],[601,600]]",null,{"$f":"VLOOKUP(A272,[1]Sheet1!$A:$D,4,FALSE)","v":"伐木场2"}]
[10700,7,"[[101,7000],[103,7000]]",200,"[[113,3500],[601,700]]","[[1,16]]",null,"[[113,3500],[601,700]]",null,{"$f":"VLOOKUP(A273,[1]Sheet1!$A:$D,4,FALSE)","v":"伐木场2"}]
[10700,8,"[[101,9000],[103,9000]]",390,"[[113,4000],[601,800]]","[[1,16]]",null,"[[113,4000],[601,800]]",null,{"$f":"VLOOKUP(A274,[1]Sheet1!$A:$D,4,FALSE)","v":"伐木场2"}]
[10700,9,"[[101,11000],[103,11000]]",590,"[[113,4500],[601,900]]","[[1,17]]",null,"[[113,4500],[601,900]]",null,{"$f":"VLOOKUP(A275,[1]Sheet1!$A:$D,4,FALSE)","v":"伐木场2"}]
[10700,10,"[[101,13000],[103,13000]]",980,"[[113,5500],[601,1000]]","[[1,17]]",null,"[[113,5500],[601,1000]]",null,{"$f":"VLOOKUP(A276,[1]Sheet1!$A:$D,4,FALSE)","v":"伐木场2"}]
[10700,11,"[[101,15000],[103,15000]]",1200,"[[113,6500],[601,1100]]","[[1,18]]",null,"[[113,6500],[601,1100]]",null,{"$f":"VLOOKUP(A277,[1]Sheet1!$A:$D,4,FALSE)","v":"伐木场2"}]
[10700,12,"[[101,17000],[103,17000]]",1500,"[[113,7500],[601,1200]]","[[1,18]]",null,"[[113,7500],[601,1200]]",null,{"$f":"VLOOKUP(A278,[1]Sheet1!$A:$D,4,FALSE)","v":"伐木场2"}]
[10700,13,"[[101,19000],[103,19000]]",1800,"[[113,8500],[601,1300]]","[[1,19]]",null,"[[113,8500],[601,1300]]",null,{"$f":"VLOOKUP(A279,[1]Sheet1!$A:$D,4,FALSE)","v":"伐木场2"}]
[10700,14,"[[101,23000],[103,23000]]",2100,"[[113,9500],[601,1400]]","[[1,19]]",null,"[[113,9500],[601,1400]]",null,{"$f":"VLOOKUP(A280,[1]Sheet1!$A:$D,4,FALSE)","v":"伐木场2"}]
[10700,15,"[[101,25000],[103,25000]]",2250,"[[113,10500],[601,1500]]","[[1,20]]",null,"[[113,10500],[601,1500]]",null,{"$f":"VLOOKUP(A281,[1]Sheet1!$A:$D,4,FALSE)","v":"伐木场2"}]
[10700,16,"[[101,30000],[103,30000]]",2430,"[[113,11500],[601,1600]]","[[1,20]]",null,"[[113,11500],[601,1600]]",null,{"$f":"VLOOKUP(A282,[1]Sheet1!$A:$D,4,FALSE)","v":"伐木场2"}]
[10700,17,"[[101,35000],[103,35000]]",2910,"[[113,12500],[601,1700]]","[[1,21]]",null,"[[113,12500],[601,1700]]",null,{"$f":"VLOOKUP(A283,[1]Sheet1!$A:$D,4,FALSE)","v":"伐木场2"}]
[10700,18,"[[101,40000],[103,40000]]",3210,"[[113,13500],[601,1800]]","[[1,21]]",null,"[[113,13500],[601,1800]]",null,{"$f":"VLOOKUP(A284,[1]Sheet1!$A:$D,4,FALSE)","v":"伐木场2"}]
[10700,19,"[[101,45000],[103,45000]]",3410,"[[113,14500],[601,1900]]","[[1,22]]",null,"[[113,14500],[601,1900]]",null,{"$f":"VLOOKUP(A285,[1]Sheet1!$A:$D,4,FALSE)","v":"伐木场2"}]
[10700,20,"[[101,50000],[103,50000]]",3890,"[[113,15500],[601,2000]]","[[1,23]]",null,"[[113,15500],[601,2000]]",null,{"$f":"VLOOKUP(A286,[1]Sheet1!$A:$D,4,FALSE)","v":"伐木场2"}]
[10700,21,"[[101,55000],[103,55000]]",4180,"[[113,16500],[601,2100]]","[[1,24]]",null,"[[113,16500],[601,2100]]",null,{"$f":"VLOOKUP(A287,[1]Sheet1!$A:$D,4,FALSE)","v":"伐木场2"}]
[10700,22,"[[101,60000],[103,60000]]",4480,"[[113,17500],[601,2200]]","[[1,25]]",null,"[[113,17500],[601,2200]]",null,{"$f":"VLOOKUP(A288,[1]Sheet1!$A:$D,4,FALSE)","v":"伐木场2"}]
[10700,23,"[[101,70000],[103,70000]]",4860,"[[113,18500],[601,2300]]","[[1,25]]",null,"[[113,18500],[601,2300]]",null,{"$f":"VLOOKUP(A289,[1]Sheet1!$A:$D,4,FALSE)","v":"伐木场2"}]
[10700,24,"[[101,80000],[103,80000]]",5840,"[[113,19500],[601,2400]]","[[1,25]]",null,"[[113,19500],[601,2400]]",null,{"$f":"VLOOKUP(A290,[1]Sheet1!$A:$D,4,FALSE)","v":"伐木场2"}]
[10700,25,"[[101,100000],[103,100000]]",6810,"[[113,20500],[601,2500]]","[[1,25]]",null,"[[113,20500],[601,2500]]",null,{"$f":"VLOOKUP(A291,[1]Sheet1!$A:$D,4,FALSE)","v":"伐木场2"}]
[10700,26,"[[101,110000],[103,110000]]",7780,"[[113,21500],[601,2600]]","[[1,25]]",null,"[[113,21500],[601,2600]]",null,{"$f":"VLOOKUP(A292,[1]Sheet1!$A:$D,4,FALSE)","v":"伐木场2"}]
[10700,27,"[[101,120000],[103,120000]]",9770,"[[113,22500],[601,2700]]","[[1,25]]",null,"[[113,22500],[601,2700]]",null,{"$f":"VLOOKUP(A293,[1]Sheet1!$A:$D,4,FALSE)","v":"伐木场2"}]
[10700,28,"[[101,150000],[103,150000]]",12150,"[[113,23500],[601,2800]]","[[1,25]]",null,"[[113,23500],[601,2800]]",null,{"$f":"VLOOKUP(A294,[1]Sheet1!$A:$D,4,FALSE)","v":"伐木场2"}]
[10700,29,"[[101,200000],[103,200000]]",14580,"[[113,24500],[601,2900]]","[[1,25]]",null,"[[113,24500],[601,2900]]",null,{"$f":"VLOOKUP(A295,[1]Sheet1!$A:$D,4,FALSE)","v":"伐木场2"}]
[10700,30,null,null,"[[113,26000],[601,3000]]",null,null,"[[113,26000],[601,3000]]",null,{"$f":"VLOOKUP(A296,[1]Sheet1!$A:$D,4,FALSE)","v":"伐木场2"}]
[10701,0,"[[101,100],[103,100]]",10,"[[114,0]]","[[1,7]]",null,"[[114,0]]",null,{"$f":"VLOOKUP(A297,[1]Sheet1!$A:$D,4,FALSE)","v":"铁矿厂2"}]
[10701,1,"[[101,300],[103,300]]",10,"[[114,500],[601,100]]","[[1,7]]",null,"[[114,500],[601,100]]",null,{"$f":"VLOOKUP(A298,[1]Sheet1!$A:$D,4,FALSE)","v":"铁矿厂2"}]
[10701,2,"[[101,900],[103,900]]",20,"[[114,700],[601,200]]","[[1,8]]",null,"[[114,700],[601,200]]",null,{"$f":"VLOOKUP(A299,[1]Sheet1!$A:$D,4,FALSE)","v":"铁矿厂2"}]
[10701,3,"[[101,1500],[103,1500]]",30,"[[114,1000],[601,300]]","[[1,10]]",null,"[[114,1000],[601,300]]",null,{"$f":"VLOOKUP(A300,[1]Sheet1!$A:$D,4,FALSE)","v":"铁矿厂2"}]
[10701,4,"[[101,3000],[103,3000]]",60,"[[114,1500],[601,400]]","[[1,12]]",null,"[[114,1500],[601,400]]",null,{"$f":"VLOOKUP(A301,[1]Sheet1!$A:$D,4,FALSE)","v":"铁矿厂2"}]
[10701,5,"[[101,4000],[103,4000]]",90,"[[114,2000],[601,500]]","[[1,14]]",null,"[[114,2000],[601,500]]",null,{"$f":"VLOOKUP(A302,[1]Sheet1!$A:$D,4,FALSE)","v":"铁矿厂2"}]
[10701,6,"[[101,5500],[103,5500]]",150,"[[114,3000],[601,600]]","[[1,14]]",null,"[[114,3000],[601,600]]",null,{"$f":"VLOOKUP(A303,[1]Sheet1!$A:$D,4,FALSE)","v":"铁矿厂2"}]
[10701,7,"[[101,7000],[103,7000]]",200,"[[114,3500],[601,700]]","[[1,16]]",null,"[[114,3500],[601,700]]",null,{"$f":"VLOOKUP(A304,[1]Sheet1!$A:$D,4,FALSE)","v":"铁矿厂2"}]
[10701,8,"[[101,9000],[103,9000]]",390,"[[114,4000],[601,800]]","[[1,16]]",null,"[[114,4000],[601,800]]",null,{"$f":"VLOOKUP(A305,[1]Sheet1!$A:$D,4,FALSE)","v":"铁矿厂2"}]
[10701,9,"[[101,11000],[103,11000]]",590,"[[114,4500],[601,900]]","[[1,17]]",null,"[[114,4500],[601,900]]",null,{"$f":"VLOOKUP(A306,[1]Sheet1!$A:$D,4,FALSE)","v":"铁矿厂2"}]
[10701,10,"[[101,13000],[103,13000]]",980,"[[114,5500],[601,1000]]","[[1,17]]",null,"[[114,5500],[601,1000]]",null,{"$f":"VLOOKUP(A307,[1]Sheet1!$A:$D,4,FALSE)","v":"铁矿厂2"}]
[10701,11,"[[101,15000],[103,15000]]",1200,"[[114,6500],[601,1100]]","[[1,18]]",null,"[[114,6500],[601,1100]]",null,{"$f":"VLOOKUP(A308,[1]Sheet1!$A:$D,4,FALSE)","v":"铁矿厂2"}]
[10701,12,"[[101,17000],[103,17000]]",1500,"[[114,7500],[601,1200]]","[[1,18]]",null,"[[114,7500],[601,1200]]",null,{"$f":"VLOOKUP(A309,[1]Sheet1!$A:$D,4,FALSE)","v":"铁矿厂2"}]
[10701,13,"[[101,19000],[103,19000]]",1800,"[[114,8500],[601,1300]]","[[1,19]]",null,"[[114,8500],[601,1300]]",null,{"$f":"VLOOKUP(A310,[1]Sheet1!$A:$D,4,FALSE)","v":"铁矿厂2"}]
[10701,14,"[[101,23000],[103,23000]]",2100,"[[114,9500],[601,1400]]","[[1,19]]",null,"[[114,9500],[601,1400]]",null,{"$f":"VLOOKUP(A311,[1]Sheet1!$A:$D,4,FALSE)","v":"铁矿厂2"}]
[10701,15,"[[101,25000],[103,25000]]",2250,"[[114,10500],[601,1500]]","[[1,20]]",null,"[[114,10500],[601,1500]]",null,{"$f":"VLOOKUP(A312,[1]Sheet1!$A:$D,4,FALSE)","v":"铁矿厂2"}]
[10701,16,"[[101,30000],[103,30000]]",2430,"[[114,11500],[601,1600]]","[[1,20]]",null,"[[114,11500],[601,1600]]",null,{"$f":"VLOOKUP(A313,[1]Sheet1!$A:$D,4,FALSE)","v":"铁矿厂2"}]
[10701,17,"[[101,35000],[103,35000]]",2910,"[[114,12500],[601,1700]]","[[1,21]]",null,"[[114,12500],[601,1700]]",null,{"$f":"VLOOKUP(A314,[1]Sheet1!$A:$D,4,FALSE)","v":"铁矿厂2"}]
[10701,18,"[[101,40000],[103,40000]]",3210,"[[114,13500],[601,1800]]","[[1,21]]",null,"[[114,13500],[601,1800]]",null,{"$f":"VLOOKUP(A315,[1]Sheet1!$A:$D,4,FALSE)","v":"铁矿厂2"}]
[10701,19,"[[101,45000],[103,45000]]",3410,"[[114,14500],[601,1900]]","[[1,22]]",null,"[[114,14500],[601,1900]]",null,{"$f":"VLOOKUP(A316,[1]Sheet1!$A:$D,4,FALSE)","v":"铁矿厂2"}]
[10701,20,"[[101,50000],[103,50000]]",3890,"[[114,15500],[601,2000]]","[[1,23]]",null,"[[114,15500],[601,2000]]",null,{"$f":"VLOOKUP(A317,[1]Sheet1!$A:$D,4,FALSE)","v":"铁矿厂2"}]
[10701,21,"[[101,55000],[103,55000]]",4180,"[[114,16500],[601,2100]]","[[1,24]]",null,"[[114,16500],[601,2100]]",null,{"$f":"VLOOKUP(A318,[1]Sheet1!$A:$D,4,FALSE)","v":"铁矿厂2"}]
[10701,22,"[[101,60000],[103,60000]]",4480,"[[114,17500],[601,2200]]","[[1,25]]",null,"[[114,17500],[601,2200]]",null,{"$f":"VLOOKUP(A319,[1]Sheet1!$A:$D,4,FALSE)","v":"铁矿厂2"}]
[10701,23,"[[101,70000],[103,70000]]",4860,"[[114,18500],[601,2300]]","[[1,25]]",null,"[[114,18500],[601,2300]]",null,{"$f":"VLOOKUP(A320,[1]Sheet1!$A:$D,4,FALSE)","v":"铁矿厂2"}]
[10701,24,"[[101,80000],[103,80000]]",5840,"[[114,19500],[601,2400]]","[[1,25]]",null,"[[114,19500],[601,2400]]",null,{"$f":"VLOOKUP(A321,[1]Sheet1!$A:$D,4,FALSE)","v":"铁矿厂2"}]
[10701,25,"[[101,100000],[103,100000]]",6810,"[[114,20500],[601,2500]]","[[1,25]]",null,"[[114,20500],[601,2500]]",null,{"$f":"VLOOKUP(A322,[1]Sheet1!$A:$D,4,FALSE)","v":"铁矿厂2"}]
[10701,26,"[[101,110000],[103,110000]]",7780,"[[114,21500],[601,2600]]","[[1,25]]",null,"[[114,21500],[601,2600]]",null,{"$f":"VLOOKUP(A323,[1]Sheet1!$A:$D,4,FALSE)","v":"铁矿厂2"}]
[10701,27,"[[101,120000],[103,120000]]",9770,"[[114,22500],[601,2700]]","[[1,25]]",null,"[[114,22500],[601,2700]]",null,{"$f":"VLOOKUP(A324,[1]Sheet1!$A:$D,4,FALSE)","v":"铁矿厂2"}]
[10701,28,"[[101,150000],[103,150000]]",12150,"[[114,23500],[601,2800]]","[[1,25]]",null,"[[114,23500],[601,2800]]",null,{"$f":"VLOOKUP(A325,[1]Sheet1!$A:$D,4,FALSE)","v":"铁矿厂2"}]
[10701,29,"[[101,200000],[103,200000]]",14580,"[[114,24500],[601,2900]]","[[1,25]]",null,"[[114,24500],[601,2900]]",null,{"$f":"VLOOKUP(A326,[1]Sheet1!$A:$D,4,FALSE)","v":"铁矿厂2"}]
[10701,30,null,null,"[[114,26000],[601,3000]]","[[1,25]]",null,"[[114,26000],[601,3000]]",null,{"$f":"VLOOKUP(A327,[1]Sheet1!$A:$D,4,FALSE)","v":"铁矿厂2"}]
[10800,0,"[[101,4000],[103,4000]]",1800,"[[121,0]]","[[1,8]]",null,"[[121,0]]",null,{"$f":"VLOOKUP(A328,[1]Sheet1!$A:$D,4,FALSE)","v":"磨坊"}]
[10800,1,"[[101,8000],[103,8000]]",3000,"[[121,500],[601,100]]","[[1,8]]",null,"[[121,500],[601,100]]",null,{"$f":"VLOOKUP(A329,[1]Sheet1!$A:$D,4,FALSE)","v":"磨坊"}]
[10800,2,"[[101,10000],[103,10000]]",6000,"[[121,700],[601,200]]","[[1,9]]",null,"[[121,700],[601,200]]",null,{"$f":"VLOOKUP(A330,[1]Sheet1!$A:$D,4,FALSE)","v":"磨坊"}]
[10800,3,"[[101,15000],[103,15000]]",9000,"[[121,1000],[601,300]]","[[1,10]]",null,"[[121,1000],[601,300]]",null,{"$f":"VLOOKUP(A331,[1]Sheet1!$A:$D,4,FALSE)","v":"磨坊"}]
[10800,4,"[[101,25000],[103,25000]]",11000,"[[121,1500],[601,400]]","[[1,14]]",null,"[[121,1500],[601,400]]",null,{"$f":"VLOOKUP(A332,[1]Sheet1!$A:$D,4,FALSE)","v":"磨坊"}]
[10800,5,"[[101,30000],[103,30000]]",12000,"[[121,2000],[601,500]]","[[1,16]]",null,"[[121,2000],[601,500]]",null,{"$f":"VLOOKUP(A333,[1]Sheet1!$A:$D,4,FALSE)","v":"磨坊"}]
[10800,6,"[[101,45000],[103,45000]]",14000,"[[121,3000],[601,600]]","[[1,17]]",null,"[[121,3000],[601,600]]",null,{"$f":"VLOOKUP(A334,[1]Sheet1!$A:$D,4,FALSE)","v":"磨坊"}]
[10800,7,"[[101,50000],[103,50000]]",16000,"[[121,4000],[601,700]]","[[1,18]]",null,"[[121,4000],[601,700]]",null,{"$f":"VLOOKUP(A335,[1]Sheet1!$A:$D,4,FALSE)","v":"磨坊"}]
[10800,8,"[[101,70000],[103,70000]]",20000,"[[121,5000],[601,800]]","[[1,19]]",null,"[[121,5000],[601,800]]",null,{"$f":"VLOOKUP(A336,[1]Sheet1!$A:$D,4,FALSE)","v":"磨坊"}]
[10800,9,"[[101,130000],[103,130000]]",27000,"[[121,6000],[601,900]]","[[1,22]]",null,"[[121,6000],[601,900]]",null,{"$f":"VLOOKUP(A337,[1]Sheet1!$A:$D,4,FALSE)","v":"磨坊"}]
[10800,10,null,null,"[[121,7000],[601,1000]]","[[1,25]]",null,"[[121,7000],[601,1000]]",null,{"$f":"VLOOKUP(A338,[1]Sheet1!$A:$D,4,FALSE)","v":"磨坊"}]
[10801,0,"[[101,4000],[103,4000]]",1800,"[[122,0]]","[[1,8]]",null,"[[122,0]]",null,{"$f":"VLOOKUP(A339,[1]Sheet1!$A:$D,4,FALSE)","v":"石匠屋"}]
[10801,1,"[[101,8000],[103,8000]]",3000,"[[122,500],[601,100]]","[[1,8]]",null,"[[122,500],[601,100]]",null,{"$f":"VLOOKUP(A340,[1]Sheet1!$A:$D,4,FALSE)","v":"石匠屋"}]
[10801,2,"[[101,10000],[103,10000]]",6000,"[[122,700],[601,200]]","[[1,9]]",null,"[[122,700],[601,200]]",null,{"$f":"VLOOKUP(A341,[1]Sheet1!$A:$D,4,FALSE)","v":"石匠屋"}]
[10801,3,"[[101,15000],[103,15000]]",9000,"[[122,1000],[601,300]]","[[1,10]]",null,"[[122,1000],[601,300]]",null,{"$f":"VLOOKUP(A342,[1]Sheet1!$A:$D,4,FALSE)","v":"石匠屋"}]
[10801,4,"[[101,25000],[103,25000]]",11000,"[[122,1500],[601,400]]","[[1,14]]",null,"[[122,1500],[601,400]]",null,{"$f":"VLOOKUP(A343,[1]Sheet1!$A:$D,4,FALSE)","v":"石匠屋"}]
[10801,5,"[[101,30000],[103,30000]]",12000,"[[122,2000],[601,500]]","[[1,16]]",null,"[[122,2000],[601,500]]",null,{"$f":"VLOOKUP(A344,[1]Sheet1!$A:$D,4,FALSE)","v":"石匠屋"}]
[10801,6,"[[101,45000],[103,45000]]",14000,"[[122,3000],[601,600]]","[[1,17]]",null,"[[122,3000],[601,600]]",null,{"$f":"VLOOKUP(A345,[1]Sheet1!$A:$D,4,FALSE)","v":"石匠屋"}]
[10801,7,"[[101,50000],[103,50000]]",16000,"[[122,4000],[601,700]]","[[1,18]]",null,"[[122,4000],[601,700]]",null,{"$f":"VLOOKUP(A346,[1]Sheet1!$A:$D,4,FALSE)","v":"石匠屋"}]
[10801,8,"[[101,70000],[103,70000]]",20000,"[[122,5000],[601,800]]","[[1,19]]",null,"[[122,5000],[601,800]]",null,{"$f":"VLOOKUP(A347,[1]Sheet1!$A:$D,4,FALSE)","v":"石匠屋"}]
[10801,9,"[[101,130000],[103,130000]]",27000,"[[122,6000],[601,900]]","[[1,22]]",null,"[[122,6000],[601,900]]",null,{"$f":"VLOOKUP(A348,[1]Sheet1!$A:$D,4,FALSE)","v":"石匠屋"}]
[10801,10,null,null,"[[122,7000],[601,1000]]","[[1,25]]",null,"[[122,7000],[601,1000]]",null,{"$f":"VLOOKUP(A349,[1]Sheet1!$A:$D,4,FALSE)","v":"石匠屋"}]
[10900,0,"[[101,4000],[103,4000]]",1800,"[[123,0]]","[[1,9]]",null,"[[123,0]]",null,{"$f":"VLOOKUP(A350,[1]Sheet1!$A:$D,4,FALSE)","v":"锯木厂"}]
[10900,1,"[[101,8000],[103,8000]]",3000,"[[123,500],[601,100]]","[[1,9]]",null,"[[123,500],[601,100]]",null,{"$f":"VLOOKUP(A351,[1]Sheet1!$A:$D,4,FALSE)","v":"锯木厂"}]
[10900,2,"[[101,10000],[103,10000]]",6000,"[[123,700],[601,200]]","[[1,9]]",null,"[[123,700],[601,200]]",null,{"$f":"VLOOKUP(A352,[1]Sheet1!$A:$D,4,FALSE)","v":"锯木厂"}]
[10900,3,"[[101,15000],[103,15000]]",9000,"[[123,1000],[601,300]]","[[1,10]]",null,"[[123,1000],[601,300]]",null,{"$f":"VLOOKUP(A353,[1]Sheet1!$A:$D,4,FALSE)","v":"锯木厂"}]
[10900,4,"[[101,25000],[103,25000]]",11000,"[[123,1500],[601,400]]","[[1,14]]",null,"[[123,1500],[601,400]]",null,{"$f":"VLOOKUP(A354,[1]Sheet1!$A:$D,4,FALSE)","v":"锯木厂"}]
[10900,5,"[[101,30000],[103,30000]]",12000,"[[123,2000],[601,500]]","[[1,16]]",null,"[[123,2000],[601,500]]",null,{"$f":"VLOOKUP(A355,[1]Sheet1!$A:$D,4,FALSE)","v":"锯木厂"}]
[10900,6,"[[101,45000],[103,45000]]",14000,"[[123,3000],[601,600]]","[[1,17]]",null,"[[123,3000],[601,600]]",null,{"$f":"VLOOKUP(A356,[1]Sheet1!$A:$D,4,FALSE)","v":"锯木厂"}]
[10900,7,"[[101,50000],[103,50000]]",16000,"[[123,4000],[601,700]]","[[1,18]]",null,"[[123,4000],[601,700]]",null,{"$f":"VLOOKUP(A357,[1]Sheet1!$A:$D,4,FALSE)","v":"锯木厂"}]
[10900,8,"[[101,70000],[103,70000]]",20000,"[[123,5000],[601,800]]","[[1,19]]",null,"[[123,5000],[601,800]]",null,{"$f":"VLOOKUP(A358,[1]Sheet1!$A:$D,4,FALSE)","v":"锯木厂"}]
[10900,9,"[[101,130000],[103,130000]]",27000,"[[123,6000],[601,900]]","[[1,22]]",null,"[[123,6000],[601,900]]",null,{"$f":"VLOOKUP(A359,[1]Sheet1!$A:$D,4,FALSE)","v":"锯木厂"}]
[10900,10,null,null,"[[123,7000],[601,1000]]","[[1,25]]",null,"[[123,7000],[601,1000]]",null,{"$f":"VLOOKUP(A360,[1]Sheet1!$A:$D,4,FALSE)","v":"锯木厂"}]
[10901,0,"[[101,4000],[103,4000]]",1800,"[[124,0]]","[[1,9]]",null,"[[124,0]]",null,{"$f":"VLOOKUP(A361,[1]Sheet1!$A:$D,4,FALSE)","v":"冶炼厂"}]
[10901,1,"[[101,8000],[103,8000]]",3000,"[[124,500],[601,100]]","[[1,9]]",null,"[[124,500],[601,100]]",null,{"$f":"VLOOKUP(A362,[1]Sheet1!$A:$D,4,FALSE)","v":"冶炼厂"}]
[10901,2,"[[101,10000],[103,10000]]",6000,"[[124,700],[601,200]]","[[1,9]]",null,"[[124,700],[601,200]]",null,{"$f":"VLOOKUP(A363,[1]Sheet1!$A:$D,4,FALSE)","v":"冶炼厂"}]
[10901,3,"[[101,15000],[103,15000]]",9000,"[[124,1000],[601,300]]","[[1,10]]",null,"[[124,1000],[601,300]]",null,{"$f":"VLOOKUP(A364,[1]Sheet1!$A:$D,4,FALSE)","v":"冶炼厂"}]
[10901,4,"[[101,25000],[103,25000]]",11000,"[[124,1500],[601,400]]","[[1,14]]",null,"[[124,1500],[601,400]]",null,{"$f":"VLOOKUP(A365,[1]Sheet1!$A:$D,4,FALSE)","v":"冶炼厂"}]
[10901,5,"[[101,30000],[103,30000]]",12000,"[[124,2000],[601,500]]","[[1,16]]",null,"[[124,2000],[601,500]]",null,{"$f":"VLOOKUP(A366,[1]Sheet1!$A:$D,4,FALSE)","v":"冶炼厂"}]
[10901,6,"[[101,45000],[103,45000]]",14000,"[[124,3000],[601,600]]","[[1,17]]",null,"[[124,3000],[601,600]]",null,{"$f":"VLOOKUP(A367,[1]Sheet1!$A:$D,4,FALSE)","v":"冶炼厂"}]
[10901,7,"[[101,50000],[103,50000]]",16000,"[[124,4000],[601,700]]","[[1,18]]",null,"[[124,4000],[601,700]]",null,{"$f":"VLOOKUP(A368,[1]Sheet1!$A:$D,4,FALSE)","v":"冶炼厂"}]
[10901,8,"[[101,70000],[103,70000]]",20000,"[[124,5000],[601,800]]","[[1,19]]",null,"[[124,5000],[601,800]]",null,{"$f":"VLOOKUP(A369,[1]Sheet1!$A:$D,4,FALSE)","v":"冶炼厂"}]
[10901,9,"[[101,130000],[103,130000]]",27000,"[[124,6000],[601,900]]","[[1,22]]",null,"[[124,6000],[601,900]]",null,{"$f":"VLOOKUP(A370,[1]Sheet1!$A:$D,4,FALSE)","v":"冶炼厂"}]
[10901,10,null,null,"[[124,7000],[601,1000]]","[[1,25]]",null,"[[124,7000],[601,1000]]",null,{"$f":"VLOOKUP(A371,[1]Sheet1!$A:$D,4,FALSE)","v":"冶炼厂"}]
[20200,0,"[[101,3600],[103,3600]]",600,"[[201,1]]","[[1,2]]",null,"[[201,1]]",null,{"$f":"VLOOKUP(A372,[1]Sheet1!$A:$D,4,FALSE)","v":"军舍"}]
[20200,1,"[[101,10000],[103,10000]]",1200,"[[201,1],[601,100]]","[[1,4]]",null,"[[201,1],[601,100]]",null,{"$f":"VLOOKUP(A373,[1]Sheet1!$A:$D,4,FALSE)","v":"军舍"}]
[20200,2,"[[101,30000],[103,30000]]",3600,"[[201,2],[601,200]]","[[1,6]]",null,"[[201,2],[601,200]]",null,{"$f":"VLOOKUP(A374,[1]Sheet1!$A:$D,4,FALSE)","v":"军舍"}]
[20200,3,"[[101,60000],[103,60000]]",10800,"[[201,3],[601,300]]","[[1,14]]",null,"[[201,3],[601,300]]",null,{"$f":"VLOOKUP(A375,[1]Sheet1!$A:$D,4,FALSE)","v":"军舍"}]
[20200,4,"[[101,100000],[103,100000]]",43200,"[[201,4],[601,400]]","[[1,16]]",null,"[[201,4],[601,400]]",null,{"$f":"VLOOKUP(A376,[1]Sheet1!$A:$D,4,FALSE)","v":"军舍"}]
[20200,5,null,null,"[[201,5],[601,500]]","[[1,20]]",null,"[[201,5],[601,500]]",null,{"$f":"VLOOKUP(A377,[1]Sheet1!$A:$D,4,FALSE)","v":"军舍"}]
[20300,0,"[[101,1500],[103,1500]]",120,"[[309,0],[202,0]]","[[1,4]]",null,"[[309,0],[202,0]]",null,{"$f":"VLOOKUP(A378,[1]Sheet1!$A:$D,4,FALSE)","v":"兵营"}]
[20300,1,"[[101,4000],[103,4000]]",240,"[[309,1],[202,40000],[601,100]]","[[1,4]]",null,"[[309,1],[202,40000],[601,100]]",null,{"$f":"VLOOKUP(A379,[1]Sheet1!$A:$D,4,FALSE)","v":"兵营"}]
[20300,2,"[[101,6000],[103,6000]]",820,"[[309,2],[202,40000],[601,200]]","[[1,5]]",null,"[[309,2],[202,40000],[601,200]]",null,{"$f":"VLOOKUP(A380,[1]Sheet1!$A:$D,4,FALSE)","v":"兵营"}]
[20300,3,"[[101,9000],[103,9000]]",1170,"[[309,2],[202,45000],[601,300]]","[[1,6]]",null,"[[309,2],[202,45000],[601,300]]",null,{"$f":"VLOOKUP(A381,[1]Sheet1!$A:$D,4,FALSE)","v":"兵营"}]
[20300,4,"[[101,12000],[103,12000]]",1400,"[[309,3],[202,45000],[601,400]]","[[1,8]]",null,"[[309,3],[202,45000],[601,400]]",null,{"$f":"VLOOKUP(A382,[1]Sheet1!$A:$D,4,FALSE)","v":"兵营"}]
[20300,5,"[[101,15000],[103,15000]]",1870,"[[309,3],[202,50000],[601,500]]","[[1,10]]",null,"[[309,3],[202,50000],[601,500]]",null,{"$f":"VLOOKUP(A383,[1]Sheet1!$A:$D,4,FALSE)","v":"兵营"}]
[20300,6,"[[101,20000],[103,20000]]",2100,"[[309,3],[202,55000],[601,600]]","[[1,12]]",null,"[[309,3],[202,55000],[601,600]]",null,{"$f":"VLOOKUP(A384,[1]Sheet1!$A:$D,4,FALSE)","v":"兵营"}]
[20300,7,"[[101,25000],[103,25000]]",2570,"[[309,4],[202,55000],[601,700]]","[[1,14]]",null,"[[309,4],[202,55000],[601,700]]",null,{"$f":"VLOOKUP(A385,[1]Sheet1!$A:$D,4,FALSE)","v":"兵营"}]
[20300,8,"[[101,30000],[103,30000]]",3500,"[[309,4],[202,60000],[601,800]]","[[1,14]]",null,"[[309,4],[202,60000],[601,800]]",null,{"$f":"VLOOKUP(A386,[1]Sheet1!$A:$D,4,FALSE)","v":"兵营"}]
[20300,9,"[[101,35000],[103,35000]]",4700,"[[309,4],[202,65000],[601,900]]","[[1,14]]",null,"[[309,4],[202,65000],[601,900]]",null,{"$f":"VLOOKUP(A387,[1]Sheet1!$A:$D,4,FALSE)","v":"兵营"}]
[20300,10,"[[101,40000],[103,40000]]",7000,"[[309,5],[202,65000],[601,1000]]","[[1,15]]",null,"[[309,5],[202,65000],[601,1000]]",null,{"$f":"VLOOKUP(A388,[1]Sheet1!$A:$D,4,FALSE)","v":"兵营"}]
[20300,11,"[[101,50000],[103,50000]]",10500,"[[309,5],[202,70000],[601,1100]]","[[1,16]]",null,"[[309,5],[202,70000],[601,1100]]",null,{"$f":"VLOOKUP(A389,[1]Sheet1!$A:$D,4,FALSE)","v":"兵营"}]
[20300,12,"[[101,70000],[103,70000]]",14000,"[[309,5],[202,75000],[601,1200]]","[[1,17]]",null,"[[309,5],[202,75000],[601,1200]]",null,{"$f":"VLOOKUP(A390,[1]Sheet1!$A:$D,4,FALSE)","v":"兵营"}]
[20300,13,"[[101,90000],[103,90000]]",17500,"[[309,6],[202,75000],[601,1300]]","[[1,18]]",null,"[[309,6],[202,75000],[601,1300]]",null,{"$f":"VLOOKUP(A391,[1]Sheet1!$A:$D,4,FALSE)","v":"兵营"}]
[20300,14,"[[101,130000],[103,130000]]",19830,"[[309,6],[202,80000],[601,1400]]","[[1,19]]",null,"[[309,6],[202,80000],[601,1400]]",null,{"$f":"VLOOKUP(A392,[1]Sheet1!$A:$D,4,FALSE)","v":"兵营"}]
[20300,15,"[[101,150000],[103,150000]]",23330,"[[309,6],[202,85000],[601,1500]]","[[1,20]]",null,"[[309,6],[202,85000],[601,1500]]",null,{"$f":"VLOOKUP(A393,[1]Sheet1!$A:$D,4,FALSE)","v":"兵营"}]
[20300,16,"[[101,170000],[103,170000]]",25670,"[[309,6],[202,90000],[601,1600]]","[[1,21]]",null,"[[309,6],[202,90000],[601,1600]]",null,{"$f":"VLOOKUP(A394,[1]Sheet1!$A:$D,4,FALSE)","v":"兵营"}]
[20300,17,"[[101,180000],[103,180000]]",29160,"[[309,6],[202,95000],[601,1700]]","[[1,22]]",null,"[[309,6],[202,95000],[601,1700]]",null,{"$f":"VLOOKUP(A395,[1]Sheet1!$A:$D,4,FALSE)","v":"兵营"}]
[20300,18,"[[101,200000],[103,200000]]",32660,"[[309,6],[202,100000],[601,1800]]","[[1,23]]",null,"[[309,6],[202,100000],[601,1800]]",null,{"$f":"VLOOKUP(A396,[1]Sheet1!$A:$D,4,FALSE)","v":"兵营"}]
[20300,19,"[[101,250000],[103,250000]]",37330,"[[309,6],[202,105000],[601,1900]]","[[1,24]]",null,"[[309,6],[202,105000],[601,1900]]",null,{"$f":"VLOOKUP(A397,[1]Sheet1!$A:$D,4,FALSE)","v":"兵营"}]
[20300,20,null,null,"[[309,6],[202,110000],[601,2000]]","[[1,25]]",null,"[[309,6],[202,110000],[601,2000]]",null,{"$f":"VLOOKUP(A398,[1]Sheet1!$A:$D,4,FALSE)","v":"兵营"}]
[20400,0,"[[101,250],[103,250]]",3000,"[[203,0],[205,0]]","[[1,5]]",null,"[[203,0],[205,0]]",null,{"$f":"VLOOKUP(A399,[1]Sheet1!$A:$D,4,FALSE)","v":"征兵处"}]
[20400,1,"[[101,1250],[103,1250]]",6000,"[[203,200],[205,500],[601,100]]","[[1,5]]",null,"[[203,200],[205,500],[601,100]]",null,{"$f":"VLOOKUP(A400,[1]Sheet1!$A:$D,4,FALSE)","v":"征兵处"}]
[20400,2,"[[101,2500],[103,2500]]",9000,"[[203,400],[205,1000],[601,200]]","[[1,6]]",null,"[[203,400],[205,1000],[601,200]]",null,{"$f":"VLOOKUP(A401,[1]Sheet1!$A:$D,4,FALSE)","v":"征兵处"}]
[20400,3,"[[101,3900],[103,3900]]",12000,"[[203,600],[205,1500],[601,300]]","[[1,10]]",null,"[[203,600],[205,1500],[601,300]]",null,{"$f":"VLOOKUP(A402,[1]Sheet1!$A:$D,4,FALSE)","v":"征兵处"}]
[20400,4,"[[101,5300],[103,5300]]",15000,"[[203,800],[205,2000],[601,400]]","[[1,14]]",null,"[[203,800],[205,2000],[601,400]]",null,{"$f":"VLOOKUP(A403,[1]Sheet1!$A:$D,4,FALSE)","v":"征兵处"}]
[20400,5,"[[101,6700],[103,6700]]",24000,"[[203,1000],[205,2500],[601,500]]","[[1,16]]",null,"[[203,1000],[205,2500],[601,500]]",null,{"$f":"VLOOKUP(A404,[1]Sheet1!$A:$D,4,FALSE)","v":"征兵处"}]
[20400,6,"[[101,12400],[103,12400]]",28000,"[[203,1200],[205,3000],[601,600]]","[[1,17]]",null,"[[203,1200],[205,3000],[601,600]]",null,{"$f":"VLOOKUP(A405,[1]Sheet1!$A:$D,4,FALSE)","v":"征兵处"}]
[20400,7,"[[101,18100],[103,18100]]",32100,"[[203,1400],[205,3500],[601,700]]","[[1,18]]",null,"[[203,1400],[205,3500],[601,700]]",null,{"$f":"VLOOKUP(A406,[1]Sheet1!$A:$D,4,FALSE)","v":"征兵处"}]
[20400,8,"[[101,23800],[103,23800]]",38900,"[[203,1800],[205,4000],[601,800]]","[[1,19]]",null,"[[203,1800],[205,4000],[601,800]]",null,{"$f":"VLOOKUP(A407,[1]Sheet1!$A:$D,4,FALSE)","v":"征兵处"}]
[20400,9,"[[101,29500],[103,29500]]",49200,"[[203,2000],[205,4500],[601,900]]","[[1,20]]",null,"[[203,2000],[205,4500],[601,900]]",null,{"$f":"VLOOKUP(A408,[1]Sheet1!$A:$D,4,FALSE)","v":"征兵处"}]
[20400,10,null,110,"[[203,2500],[205,5000],[601,1000]]","[[1,22]]",null,"[[203,2500],[205,5000],[601,1000]]",null,{"$f":"VLOOKUP(A409,[1]Sheet1!$A:$D,4,FALSE)","v":"征兵处"}]
[20700,0,"[[101,4000],[103,4000]]",null,"[[401,0]]","[[1,7]]",null,"[[401,0]]",null,{"$f":"VLOOKUP(A410,[1]Sheet1!$A:$D,4,FALSE)","v":"指挥所-攻"}]
[20700,1,"[[101,6000],[103,6000]]",700,"[[401,50],[601,100]]","[[1,9]]",null,"[[401,50],[601,100]]",null,{"$f":"VLOOKUP(A411,[1]Sheet1!$A:$D,4,FALSE)","v":"指挥所-攻"}]
[20700,2,"[[101,10000],[103,10000]]",1050,"[[401,100],[601,200]]","[[1,11]]",null,"[[401,100],[601,200]]",null,{"$f":"VLOOKUP(A412,[1]Sheet1!$A:$D,4,FALSE)","v":"指挥所-攻"}]
[20700,3,"[[101,20000],[103,20000]]",1390,"[[401,150],[601,300]]","[[1,13]]",null,"[[401,150],[601,300]]",null,{"$f":"VLOOKUP(A413,[1]Sheet1!$A:$D,4,FALSE)","v":"指挥所-攻"}]
[20700,4,"[[101,25000],[103,25000]]",1870,"[[401,200],[601,400]]","[[1,15]]",null,"[[401,200],[601,400]]",null,{"$f":"VLOOKUP(A414,[1]Sheet1!$A:$D,4,FALSE)","v":"指挥所-攻"}]
[20700,5,"[[101,30000],[103,30000]]",2100,"[[401,250],[601,500]]","[[1,16]]",null,"[[401,250],[601,500]]",null,{"$f":"VLOOKUP(A415,[1]Sheet1!$A:$D,4,FALSE)","v":"指挥所-攻"}]
[20700,6,"[[101,40000],[103,40000]]",2790,"[[401,300],[601,600]]","[[1,17]]",null,"[[401,300],[601,600]]",null,{"$f":"VLOOKUP(A416,[1]Sheet1!$A:$D,4,FALSE)","v":"指挥所-攻"}]
[20700,7,"[[101,60000],[103,60000]]",4200,"[[401,350],[601,700]]","[[1,18]]",null,"[[401,350],[601,700]]",null,{"$f":"VLOOKUP(A417,[1]Sheet1!$A:$D,4,FALSE)","v":"指挥所-攻"}]
[20700,8,"[[101,80000],[103,80000]]",4630,"[[401,400],[601,800]]","[[1,21]]",null,"[[401,400],[601,800]]",null,{"$f":"VLOOKUP(A418,[1]Sheet1!$A:$D,4,FALSE)","v":"指挥所-攻"}]
[20700,9,"[[101,100000],[103,100000]]",5180,"[[401,450],[601,900]]","[[1,22]]",null,"[[401,450],[601,900]]",null,{"$f":"VLOOKUP(A419,[1]Sheet1!$A:$D,4,FALSE)","v":"指挥所-攻"}]
[20700,10,"[[101,120000],[103,120000]]",5860,"[[401,500],[601,1000]]","[[1,23]]",null,"[[401,500],[601,1000]]",null,{"$f":"VLOOKUP(A420,[1]Sheet1!$A:$D,4,FALSE)","v":"指挥所-攻"}]
[20700,11,"[[101,130000],[103,130000]]",6410,"[[401,550],[601,1100]]","[[1,24]]",null,"[[401,550],[601,1100]]",null,{"$f":"VLOOKUP(A421,[1]Sheet1!$A:$D,4,FALSE)","v":"指挥所-攻"}]
[20700,12,"[[101,140000],[103,140000]]",7080,"[[401,600],[601,1200]]","[[1,25]]",null,"[[401,600],[601,1200]]",null,{"$f":"VLOOKUP(A422,[1]Sheet1!$A:$D,4,FALSE)","v":"指挥所-攻"}]
[20700,13,"[[101,160000],[103,160000]]",9000,"[[401,650],[601,1300]]",null,null,"[[401,650],[601,1300]]",null,{"$f":"VLOOKUP(A423,[1]Sheet1!$A:$D,4,FALSE)","v":"指挥所-攻"}]
[20700,14,"[[101,200000],[103,200000]]",10800,"[[401,700],[601,1400]]",null,null,"[[401,700],[601,1400]]",null,{"$f":"VLOOKUP(A424,[1]Sheet1!$A:$D,4,FALSE)","v":"指挥所-攻"}]
[20700,15,"[[101,300000],[103,300000]]",15000,"[[401,750],[601,1500]]",null,null,"[[401,750],[601,1500]]",null,{"$f":"VLOOKUP(A425,[1]Sheet1!$A:$D,4,FALSE)","v":"指挥所-攻"}]
[20700,16,"[[101,500000],[103,500000]]",18000,"[[401,800],[601,1600]]",null,null,"[[401,800],[601,1600]]",null,{"$f":"VLOOKUP(A426,[1]Sheet1!$A:$D,4,FALSE)","v":"指挥所-攻"}]
[20700,17,"[[101,700000],[103,700000]]",21000,"[[401,850],[601,1700]]",null,null,"[[401,850],[601,1700]]",null,{"$f":"VLOOKUP(A427,[1]Sheet1!$A:$D,4,FALSE)","v":"指挥所-攻"}]
[20700,18,"[[101,1000000],[103,1000000]]",24000,"[[401,900],[601,1800]]",null,null,"[[401,900],[601,1800]]",null,{"$f":"VLOOKUP(A428,[1]Sheet1!$A:$D,4,FALSE)","v":"指挥所-攻"}]
[20700,19,"[[101,1500000],[103,1500000]]",27000,"[[401,950],[601,1900]]",null,null,"[[401,950],[601,1900]]",null,{"$f":"VLOOKUP(A429,[1]Sheet1!$A:$D,4,FALSE)","v":"指挥所-攻"}]
[20700,20,null,null,"[[401,1000],[601,2000]]",null,null,"[[401,1000],[601,2000]]",null,{"$f":"VLOOKUP(A430,[1]Sheet1!$A:$D,4,FALSE)","v":"指挥所-攻"}]
[20800,0,"[[101,4000],[103,4000]]",350,"[[402,0]]","[[1,7]]",null,"[[402,0]]",null,{"$f":"VLOOKUP(A431,[1]Sheet1!$A:$D,4,FALSE)","v":"指挥所-防"}]
[20800,1,"[[101,6000],[103,6000]]",700,"[[402,50],[601,100]]","[[1,9]]",null,"[[402,50],[601,100]]",null,{"$f":"VLOOKUP(A432,[1]Sheet1!$A:$D,4,FALSE)","v":"指挥所-防"}]
[20800,2,"[[101,10000],[103,10000]]",1050,"[[402,100],[601,200]]","[[1,11]]",null,"[[402,100],[601,200]]",null,{"$f":"VLOOKUP(A433,[1]Sheet1!$A:$D,4,FALSE)","v":"指挥所-防"}]
[20800,3,"[[101,20000],[103,20000]]",1390,"[[402,150],[601,300]]","[[1,13]]",null,"[[402,150],[601,300]]",null,{"$f":"VLOOKUP(A434,[1]Sheet1!$A:$D,4,FALSE)","v":"指挥所-防"}]
[20800,4,"[[101,25000],[103,25000]]",1870,"[[402,200],[601,400]]","[[1,15]]",null,"[[402,200],[601,400]]",null,{"$f":"VLOOKUP(A435,[1]Sheet1!$A:$D,4,FALSE)","v":"指挥所-防"}]
[20800,5,"[[101,30000],[103,30000]]",2100,"[[402,250],[601,500]]","[[1,16]]",null,"[[402,250],[601,500]]",null,{"$f":"VLOOKUP(A436,[1]Sheet1!$A:$D,4,FALSE)","v":"指挥所-防"}]
[20800,6,"[[101,40000],[103,40000]]",2790,"[[402,300],[601,600]]","[[1,17]]",null,"[[402,300],[601,600]]",null,{"$f":"VLOOKUP(A437,[1]Sheet1!$A:$D,4,FALSE)","v":"指挥所-防"}]
[20800,7,"[[101,60000],[103,60000]]",4200,"[[402,350],[601,700]]","[[1,18]]",null,"[[402,350],[601,700]]",null,{"$f":"VLOOKUP(A438,[1]Sheet1!$A:$D,4,FALSE)","v":"指挥所-防"}]
[20800,8,"[[101,80000],[103,80000]]",4630,"[[402,400],[601,800]]","[[1,21]]",null,"[[402,400],[601,800]]",null,{"$f":"VLOOKUP(A439,[1]Sheet1!$A:$D,4,FALSE)","v":"指挥所-防"}]
[20800,9,"[[101,100000],[103,100000]]",5180,"[[402,450],[601,900]]","[[1,22]]",null,"[[402,450],[601,900]]",null,{"$f":"VLOOKUP(A440,[1]Sheet1!$A:$D,4,FALSE)","v":"指挥所-防"}]
[20800,10,"[[101,120000],[103,120000]]",5860,"[[402,500],[601,1000]]","[[1,23]]",null,"[[402,500],[601,1000]]",null,{"$f":"VLOOKUP(A441,[1]Sheet1!$A:$D,4,FALSE)","v":"指挥所-防"}]
[20800,11,"[[101,130000],[103,130000]]",6410,"[[402,550],[601,1100]]","[[1,24]]",null,"[[402,550],[601,1100]]",null,"指挥所-防"]
[20800,12,"[[101,140000],[103,140000]]",7080,"[[402,600],[601,1200]]","[[1,25]]",null,"[[402,600],[601,1200]]",null,"指挥所-防"]
[20800,13,"[[101,160000],[103,160000]]",9000,"[[402,650],[601,1300]]",null,null,"[[402,650],[601,1300]]",null,"指挥所-防"]
[20800,14,"[[101,200000],[103,200000]]",10800,"[[402,700],[601,1400]]",null,null,"[[402,700],[601,1400]]",null,"指挥所-防"]
[20800,15,"[[101,300000],[103,300000]]",15000,"[[402,750],[601,1500]]",null,null,"[[402,750],[601,1500]]",null,"指挥所-防"]
[20800,16,"[[101,500000],[103,500000]]",18000,"[[402,800],[601,1600]]",null,null,"[[402,800],[601,1600]]",null,"指挥所-防"]
[20800,17,"[[101,700000],[103,700000]]",21000,"[[402,850],[601,1700]]",null,null,"[[402,850],[601,1700]]",null,"指挥所-防"]
[20800,18,"[[101,1000000],[103,1000000]]",24000,"[[402,900],[601,1800]]",null,null,"[[402,900],[601,1800]]",null,"指挥所-防"]
[20800,19,"[[101,1500000],[103,1500000]]",27000,"[[402,950],[601,1900]]",null,null,"[[402,950],[601,1900]]",null,"指挥所-防"]
[20800,20,null,null,"[[402,1000],[601,2000]]",null,null,"[[402,1000],[601,2000]]",null,"指挥所-防"]
[20900,0,"[[101,250],[103,250]]",30,"[[406,0]]","[[1,4]]",null,"[[406,0]]",null,{"$f":"VLOOKUP(A452,[1]Sheet1!$A:$D,4,FALSE)","v":"练兵所-步"}]
[20900,1,"[[101,1000],[103,1000]]",50,"[[406,100],[601,100]]","[[1,4]]",null,"[[406,100],[601,100]]",null,{"$f":"VLOOKUP(A453,[1]Sheet1!$A:$D,4,FALSE)","v":"练兵所-步"}]
[20900,2,"[[101,3000],[103,3000]]",90,"[[406,200],[601,200]]","[[1,7]]",null,"[[406,200],[601,200]]",null,{"$f":"VLOOKUP(A454,[1]Sheet1!$A:$D,4,FALSE)","v":"练兵所-步"}]
[20900,3,"[[101,4000],[103,4000]]",210,"[[406,300],[601,300]]","[[1,7]]",null,"[[406,300],[601,300]]",null,{"$f":"VLOOKUP(A455,[1]Sheet1!$A:$D,4,FALSE)","v":"练兵所-步"}]
[20900,4,"[[101,5000],[103,5000]]",440,"[[406,400],[601,400]]","[[1,7]]",null,"[[406,400],[601,400]]",null,{"$f":"VLOOKUP(A456,[1]Sheet1!$A:$D,4,FALSE)","v":"练兵所-步"}]
[20900,5,"[[101,6000],[103,6000]]",690,"[[406,500],[601,500]]","[[1,7]]",null,"[[406,500],[601,500]]",null,{"$f":"VLOOKUP(A457,[1]Sheet1!$A:$D,4,FALSE)","v":"练兵所-步"}]
[20900,6,"[[101,7000],[103,7000]]",960,"[[406,600],[601,600]]","[[1,10]]",null,"[[406,600],[601,600]]",null,{"$f":"VLOOKUP(A458,[1]Sheet1!$A:$D,4,FALSE)","v":"练兵所-步"}]
[20900,7,"[[101,8000],[103,8000]]",1230,"[[406,700],[601,700]]","[[1,10]]",null,"[[406,700],[601,700]]",null,{"$f":"VLOOKUP(A459,[1]Sheet1!$A:$D,4,FALSE)","v":"练兵所-步"}]
[20900,8,"[[101,10000],[103,10000]]",1640,"[[406,800],[601,800]]","[[1,10]]",null,"[[406,800],[601,800]]",null,{"$f":"VLOOKUP(A460,[1]Sheet1!$A:$D,4,FALSE)","v":"练兵所-步"}]
[20900,9,"[[101,15000],[103,15000]]",2180,"[[406,900],[601,900]]","[[1,10]]",null,"[[406,900],[601,900]]",null,{"$f":"VLOOKUP(A461,[1]Sheet1!$A:$D,4,FALSE)","v":"练兵所-步"}]
[20900,10,"[[101,20000],[103,20000]]",2730,"[[406,1000],[601,1000]]","[[1,11]]",null,"[[406,1000],[601,1000]]",null,{"$f":"VLOOKUP(A462,[1]Sheet1!$A:$D,4,FALSE)","v":"练兵所-步"}]
[20900,11,"[[101,25000],[103,25000]]",4500,"[[406,1100],[601,1100]]","[[1,11]]",null,"[[406,1100],[601,1100]]",null,{"$f":"VLOOKUP(A463,[1]Sheet1!$A:$D,4,FALSE)","v":"练兵所-步"}]
[20900,12,"[[101,40000],[103,40000]]",4770,"[[406,1200],[601,1200]]","[[1,13]]",null,"[[406,1200],[601,1200]]",null,{"$f":"VLOOKUP(A464,[1]Sheet1!$A:$D,4,FALSE)","v":"练兵所-步"}]
[20900,13,"[[101,50000],[103,50000]]",4090,"[[406,1300],[601,1300]]","[[1,15]]",null,"[[406,1300],[601,1300]]",null,{"$f":"VLOOKUP(A465,[1]Sheet1!$A:$D,4,FALSE)","v":"练兵所-步"}]
[20900,14,"[[101,70000],[103,70000]]",4770,"[[406,1400],[601,1400]]","[[1,16]]",null,"[[406,1400],[601,1400]]",null,{"$f":"VLOOKUP(A466,[1]Sheet1!$A:$D,4,FALSE)","v":"练兵所-步"}]
[20900,15,"[[101,100000],[103,100000]]",5450,"[[406,1500],[601,1500]]","[[1,17]]",null,"[[406,1500],[601,1500]]",null,{"$f":"VLOOKUP(A467,[1]Sheet1!$A:$D,4,FALSE)","v":"练兵所-步"}]
[20900,16,"[[101,120000],[103,120000]]",6130,"[[406,1600],[601,1600]]","[[1,18]]",null,"[[406,1600],[601,1600]]",null,{"$f":"VLOOKUP(A468,[1]Sheet1!$A:$D,4,FALSE)","v":"练兵所-步"}]
[20900,17,"[[101,140000],[103,140000]]",6810,"[[406,1700],[601,1700]]","[[1,19]]",null,"[[406,1700],[601,1700]]",null,{"$f":"VLOOKUP(A469,[1]Sheet1!$A:$D,4,FALSE)","v":"练兵所-步"}]
[20900,18,"[[101,150000],[103,150000]]",7490,"[[406,1800],[601,1800]]","[[1,20]]",null,"[[406,1800],[601,1800]]",null,{"$f":"VLOOKUP(A470,[1]Sheet1!$A:$D,4,FALSE)","v":"练兵所-步"}]
[20900,19,"[[101,165000],[103,165000]]",8170,"[[406,1900],[601,1900]]","[[1,21]]",null,"[[406,1900],[601,1900]]",null,{"$f":"VLOOKUP(A471,[1]Sheet1!$A:$D,4,FALSE)","v":"练兵所-步"}]
[20900,20,"[[101,175000],[103,175000]]",9530,"[[406,2000],[601,2000]]","[[1,22]]",null,"[[406,2000],[601,2000]]",null,{"$f":"VLOOKUP(A472,[1]Sheet1!$A:$D,4,FALSE)","v":"练兵所-步"}]
[20900,21,"[[101,190000],[103,190000]]",10890,"[[406,2100],[601,2100]]","[[1,23]]",null,"[[406,2100],[601,2100]]",null,{"$f":"VLOOKUP(A473,[1]Sheet1!$A:$D,4,FALSE)","v":"练兵所-步"}]
[20900,22,"[[101,250000],[103,250000]]",13610,"[[406,2200],[601,2200]]","[[1,24]]",null,"[[406,2200],[601,2200]]",null,{"$f":"VLOOKUP(A474,[1]Sheet1!$A:$D,4,FALSE)","v":"练兵所-步"}]
[20900,23,"[[101,300000],[103,300000]]",17010,"[[406,2300],[601,2300]]","[[1,25]]",null,"[[406,2300],[601,2300]]",null,{"$f":"VLOOKUP(A475,[1]Sheet1!$A:$D,4,FALSE)","v":"练兵所-步"}]
[20900,24,"[[101,400000],[103,400000]]",21780,"[[406,2400],[601,2400]]","[[1,25]]",null,"[[406,2400],[601,2400]]",null,{"$f":"VLOOKUP(A476,[1]Sheet1!$A:$D,4,FALSE)","v":"练兵所-步"}]
[20900,25,null,null,"[[406,2500],[601,2500]]","[[1,25]]",null,"[[406,2500],[601,2500]]",null,{"$f":"VLOOKUP(A477,[1]Sheet1!$A:$D,4,FALSE)","v":"练兵所-步"}]
[20901,0,"[[101,250],[103,250]]",30,"[[407,0]]","[[1,4]]",null,"[[407,0]]",null,{"$f":"VLOOKUP(A478,[1]Sheet1!$A:$D,4,FALSE)","v":"练兵所-骑"}]
[20901,1,"[[101,1000],[103,1000]]",50,"[[407,100],[601,100]]","[[1,4]]",null,"[[407,100],[601,100]]",null,{"$f":"VLOOKUP(A479,[1]Sheet1!$A:$D,4,FALSE)","v":"练兵所-骑"}]
[20901,2,"[[101,3000],[103,3000]]",90,"[[407,200],[601,200]]","[[1,7]]",null,"[[407,200],[601,200]]",null,{"$f":"VLOOKUP(A480,[1]Sheet1!$A:$D,4,FALSE)","v":"练兵所-骑"}]
[20901,3,"[[101,4000],[103,4000]]",210,"[[407,300],[601,300]]","[[1,7]]",null,"[[407,300],[601,300]]",null,{"$f":"VLOOKUP(A481,[1]Sheet1!$A:$D,4,FALSE)","v":"练兵所-骑"}]
[20901,4,"[[101,5000],[103,5000]]",440,"[[407,400],[601,400]]","[[1,7]]",null,"[[407,400],[601,400]]",null,{"$f":"VLOOKUP(A482,[1]Sheet1!$A:$D,4,FALSE)","v":"练兵所-骑"}]
[20901,5,"[[101,6000],[103,6000]]",690,"[[407,500],[601,500]]","[[1,7]]",null,"[[407,500],[601,500]]",null,{"$f":"VLOOKUP(A483,[1]Sheet1!$A:$D,4,FALSE)","v":"练兵所-骑"}]
[20901,6,"[[101,7000],[103,7000]]",960,"[[407,600],[601,600]]","[[1,10]]",null,"[[407,600],[601,600]]",null,{"$f":"VLOOKUP(A484,[1]Sheet1!$A:$D,4,FALSE)","v":"练兵所-骑"}]
[20901,7,"[[101,8000],[103,8000]]",1230,"[[407,700],[601,700]]","[[1,10]]",null,"[[407,700],[601,700]]",null,{"$f":"VLOOKUP(A485,[1]Sheet1!$A:$D,4,FALSE)","v":"练兵所-骑"}]
[20901,8,"[[101,10000],[103,10000]]",1640,"[[407,800],[601,800]]","[[1,10]]",null,"[[407,800],[601,800]]",null,{"$f":"VLOOKUP(A486,[1]Sheet1!$A:$D,4,FALSE)","v":"练兵所-骑"}]
[20901,9,"[[101,15000],[103,15000]]",2180,"[[407,900],[601,900]]","[[1,10]]",null,"[[407,900],[601,900]]",null,{"$f":"VLOOKUP(A487,[1]Sheet1!$A:$D,4,FALSE)","v":"练兵所-骑"}]
[20901,10,"[[101,20000],[103,20000]]",2730,"[[407,1000],[601,1000]]","[[1,11]]",null,"[[407,1000],[601,1000]]",null,{"$f":"VLOOKUP(A488,[1]Sheet1!$A:$D,4,FALSE)","v":"练兵所-骑"}]
[20901,11,"[[101,25000],[103,25000]]",4500,"[[407,1100],[601,1100]]","[[1,11]]",null,"[[407,1100],[601,1100]]",null,{"$f":"VLOOKUP(A489,[1]Sheet1!$A:$D,4,FALSE)","v":"练兵所-骑"}]
[20901,12,"[[101,40000],[103,40000]]",4770,"[[407,1200],[601,1200]]","[[1,13]]",null,"[[407,1200],[601,1200]]",null,{"$f":"VLOOKUP(A490,[1]Sheet1!$A:$D,4,FALSE)","v":"练兵所-骑"}]
[20901,13,"[[101,50000],[103,50000]]",4090,"[[407,1300],[601,1300]]","[[1,15]]",null,"[[407,1300],[601,1300]]",null,{"$f":"VLOOKUP(A491,[1]Sheet1!$A:$D,4,FALSE)","v":"练兵所-骑"}]
[20901,14,"[[101,70000],[103,70000]]",4770,"[[407,1400],[601,1400]]","[[1,16]]",null,"[[407,1400],[601,1400]]",null,{"$f":"VLOOKUP(A492,[1]Sheet1!$A:$D,4,FALSE)","v":"练兵所-骑"}]
[20901,15,"[[101,100000],[103,100000]]",5450,"[[407,1500],[601,1500]]","[[1,17]]",null,"[[407,1500],[601,1500]]",null,{"$f":"VLOOKUP(A493,[1]Sheet1!$A:$D,4,FALSE)","v":"练兵所-骑"}]
[20901,16,"[[101,120000],[103,120000]]",6130,"[[407,1600],[601,1600]]","[[1,18]]",null,"[[407,1600],[601,1600]]",null,{"$f":"VLOOKUP(A494,[1]Sheet1!$A:$D,4,FALSE)","v":"练兵所-骑"}]
[20901,17,"[[101,140000],[103,140000]]",6810,"[[407,1700],[601,1700]]","[[1,19]]",null,"[[407,1700],[601,1700]]",null,{"$f":"VLOOKUP(A495,[1]Sheet1!$A:$D,4,FALSE)","v":"练兵所-骑"}]
[20901,18,"[[101,150000],[103,150000]]",7490,"[[407,1800],[601,1800]]","[[1,20]]",null,"[[407,1800],[601,1800]]",null,{"$f":"VLOOKUP(A496,[1]Sheet1!$A:$D,4,FALSE)","v":"练兵所-骑"}]
[20901,19,"[[101,165000],[103,165000]]",8170,"[[407,1900],[601,1900]]","[[1,21]]",null,"[[407,1900],[601,1900]]",null,{"$f":"VLOOKUP(A497,[1]Sheet1!$A:$D,4,FALSE)","v":"练兵所-骑"}]
[20901,20,"[[101,175000],[103,175000]]",9530,"[[407,2000],[601,2000]]","[[1,22]]",null,"[[407,2000],[601,2000]]",null,{"$f":"VLOOKUP(A498,[1]Sheet1!$A:$D,4,FALSE)","v":"练兵所-骑"}]
[20901,21,"[[101,190000],[103,190000]]",10890,"[[407,2100],[601,2100]]","[[1,23]]",null,"[[407,2100],[601,2100]]",null,{"$f":"VLOOKUP(A499,[1]Sheet1!$A:$D,4,FALSE)","v":"练兵所-骑"}]
[20901,22,"[[101,250000],[103,250000]]",13610,"[[407,2200],[601,2200]]","[[1,24]]",null,"[[407,2200],[601,2200]]",null,{"$f":"VLOOKUP(A500,[1]Sheet1!$A:$D,4,FALSE)","v":"练兵所-骑"}]
[20901,23,"[[101,300000],[103,300000]]",17010,"[[407,2300],[601,2300]]","[[1,25]]",null,"[[407,2300],[601,2300]]",null,{"$f":"VLOOKUP(A501,[1]Sheet1!$A:$D,4,FALSE)","v":"练兵所-骑"}]
[20901,24,"[[101,400000],[103,400000]]",21780,"[[407,2400],[601,2400]]","[[1,25]]",null,"[[407,2400],[601,2400]]",null,{"$f":"VLOOKUP(A502,[1]Sheet1!$A:$D,4,FALSE)","v":"练兵所-骑"}]
[20901,25,null,null,"[[407,2500],[601,2500]]","[[1,25]]",null,"[[407,2500],[601,2500]]",null,{"$f":"VLOOKUP(A503,[1]Sheet1!$A:$D,4,FALSE)","v":"练兵所-骑"}]
[21000,0,"[[101,250],[103,250]]",30,"[[408,0]]","[[1,4]]",null,"[[408,0]]",null,{"$f":"VLOOKUP(A504,[1]Sheet1!$A:$D,4,FALSE)","v":"练兵所-弓"}]
[21000,1,"[[101,1000],[103,1000]]",50,"[[408,100],[601,100]]","[[1,4]]",null,"[[408,100],[601,100]]",null,{"$f":"VLOOKUP(A505,[1]Sheet1!$A:$D,4,FALSE)","v":"练兵所-弓"}]
[21000,2,"[[101,3000],[103,3000]]",90,"[[408,200],[601,200]]","[[1,7]]",null,"[[408,200],[601,200]]",null,{"$f":"VLOOKUP(A506,[1]Sheet1!$A:$D,4,FALSE)","v":"练兵所-弓"}]
[21000,3,"[[101,4000],[103,4000]]",210,"[[408,300],[601,300]]","[[1,7]]",null,"[[408,300],[601,300]]",null,{"$f":"VLOOKUP(A507,[1]Sheet1!$A:$D,4,FALSE)","v":"练兵所-弓"}]
[21000,4,"[[101,5000],[103,5000]]",440,"[[408,400],[601,400]]","[[1,7]]",null,"[[408,400],[601,400]]",null,{"$f":"VLOOKUP(A508,[1]Sheet1!$A:$D,4,FALSE)","v":"练兵所-弓"}]
[21000,5,"[[101,6000],[103,6000]]",690,"[[408,500],[601,500]]","[[1,7]]",null,"[[408,500],[601,500]]",null,{"$f":"VLOOKUP(A509,[1]Sheet1!$A:$D,4,FALSE)","v":"练兵所-弓"}]
[21000,6,"[[101,7000],[103,7000]]",960,"[[408,600],[601,600]]","[[1,10]]",null,"[[408,600],[601,600]]",null,{"$f":"VLOOKUP(A510,[1]Sheet1!$A:$D,4,FALSE)","v":"练兵所-弓"}]
[21000,7,"[[101,8000],[103,8000]]",1230,"[[408,700],[601,700]]","[[1,10]]",null,"[[408,700],[601,700]]",null,{"$f":"VLOOKUP(A511,[1]Sheet1!$A:$D,4,FALSE)","v":"练兵所-弓"}]
[21000,8,"[[101,10000],[103,10000]]",1640,"[[408,800],[601,800]]","[[1,10]]",null,"[[408,800],[601,800]]",null,{"$f":"VLOOKUP(A512,[1]Sheet1!$A:$D,4,FALSE)","v":"练兵所-弓"}]
[21000,9,"[[101,15000],[103,15000]]",2180,"[[408,900],[601,900]]","[[1,10]]",null,"[[408,900],[601,900]]",null,{"$f":"VLOOKUP(A513,[1]Sheet1!$A:$D,4,FALSE)","v":"练兵所-弓"}]
[21000,10,"[[101,20000],[103,20000]]",2730,"[[408,1000],[601,1000]]","[[1,11]]",null,"[[408,1000],[601,1000]]",null,{"$f":"VLOOKUP(A514,[1]Sheet1!$A:$D,4,FALSE)","v":"练兵所-弓"}]
[21000,11,"[[101,25000],[103,25000]]",4500,"[[408,1100],[601,1100]]","[[1,11]]",null,"[[408,1100],[601,1100]]",null,{"$f":"VLOOKUP(A515,[1]Sheet1!$A:$D,4,FALSE)","v":"练兵所-弓"}]
[21000,12,"[[101,40000],[103,40000]]",4770,"[[408,1200],[601,1200]]","[[1,13]]",null,"[[408,1200],[601,1200]]",null,{"$f":"VLOOKUP(A516,[1]Sheet1!$A:$D,4,FALSE)","v":"练兵所-弓"}]
[21000,13,"[[101,50000],[103,50000]]",4090,"[[408,1300],[601,1300]]","[[1,15]]",null,"[[408,1300],[601,1300]]",null,{"$f":"VLOOKUP(A517,[1]Sheet1!$A:$D,4,FALSE)","v":"练兵所-弓"}]
[21000,14,"[[101,70000],[103,70000]]",4770,"[[408,1400],[601,1400]]","[[1,16]]",null,"[[408,1400],[601,1400]]",null,{"$f":"VLOOKUP(A518,[1]Sheet1!$A:$D,4,FALSE)","v":"练兵所-弓"}]
[21000,15,"[[101,100000],[103,100000]]",5450,"[[408,1500],[601,1500]]","[[1,17]]",null,"[[408,1500],[601,1500]]",null,{"$f":"VLOOKUP(A519,[1]Sheet1!$A:$D,4,FALSE)","v":"练兵所-弓"}]
[21000,16,"[[101,120000],[103,120000]]",6130,"[[408,1600],[601,1600]]","[[1,18]]",null,"[[408,1600],[601,1600]]",null,{"$f":"VLOOKUP(A520,[1]Sheet1!$A:$D,4,FALSE)","v":"练兵所-弓"}]
[21000,17,"[[101,140000],[103,140000]]",6810,"[[408,1700],[601,1700]]","[[1,19]]",null,"[[408,1700],[601,1700]]",null,{"$f":"VLOOKUP(A521,[1]Sheet1!$A:$D,4,FALSE)","v":"练兵所-弓"}]
[21000,18,"[[101,150000],[103,150000]]",7490,"[[408,1800],[601,1800]]","[[1,20]]",null,"[[408,1800],[601,1800]]",null,{"$f":"VLOOKUP(A522,[1]Sheet1!$A:$D,4,FALSE)","v":"练兵所-弓"}]
[21000,19,"[[101,165000],[103,165000]]",8170,"[[408,1900],[601,1900]]","[[1,21]]",null,"[[408,1900],[601,1900]]",null,{"$f":"VLOOKUP(A523,[1]Sheet1!$A:$D,4,FALSE)","v":"练兵所-弓"}]
[21000,20,"[[101,175000],[103,175000]]",9530,"[[408,2000],[601,2000]]","[[1,22]]",null,"[[408,2000],[601,2000]]",null,{"$f":"VLOOKUP(A524,[1]Sheet1!$A:$D,4,FALSE)","v":"练兵所-弓"}]
[21000,21,"[[101,190000],[103,190000]]",10890,"[[408,2100],[601,2100]]","[[1,23]]",null,"[[408,2100],[601,2100]]",null,{"$f":"VLOOKUP(A525,[1]Sheet1!$A:$D,4,FALSE)","v":"练兵所-弓"}]
[21000,22,"[[101,250000],[103,250000]]",13610,"[[408,2200],[601,2200]]","[[1,24]]",null,"[[408,2200],[601,2200]]",null,{"$f":"VLOOKUP(A526,[1]Sheet1!$A:$D,4,FALSE)","v":"练兵所-弓"}]
[21000,23,"[[101,300000],[103,300000]]",17010,"[[408,2300],[601,2300]]","[[1,25]]",null,"[[408,2300],[601,2300]]",null,{"$f":"VLOOKUP(A527,[1]Sheet1!$A:$D,4,FALSE)","v":"练兵所-弓"}]
[21000,24,"[[101,400000],[103,400000]]",21780,"[[408,2400],[601,2400]]","[[1,25]]",null,"[[408,2400],[601,2400]]",null,{"$f":"VLOOKUP(A528,[1]Sheet1!$A:$D,4,FALSE)","v":"练兵所-弓"}]
[21000,25,null,null,"[[408,2500],[601,2500]]","[[1,25]]",null,"[[408,2500],[601,2500]]",null,{"$f":"VLOOKUP(A529,[1]Sheet1!$A:$D,4,FALSE)","v":"练兵所-弓"}]
[30300,0,"[[101,10000],[103,10000]]",6000,"[[302,0]]","[[1,3]]",null,"[[302,0]]",null,{"$f":"VLOOKUP(A530,[1]Sheet1!$A:$D,4,FALSE)","v":"军机营"}]
[30300,1,"[[101,30000],[103,30000]]",12000,"[[302,1],[601,100]]","[[1,3]]",null,"[[302,1],[601,100]]",null,{"$f":"VLOOKUP(A531,[1]Sheet1!$A:$D,4,FALSE)","v":"军机营"}]
[30300,2,"[[101,50000],[103,50000]]",16000,"[[302,2],[601,200]]","[[1,5]]",null,"[[302,2],[601,200]]",null,{"$f":"VLOOKUP(A532,[1]Sheet1!$A:$D,4,FALSE)","v":"军机营"}]
[30300,3,"[[101,70000],[103,70000]]",20000,"[[302,3],[601,300]]","[[1,6]]",null,"[[302,3],[601,300]]",null,{"$f":"VLOOKUP(A533,[1]Sheet1!$A:$D,4,FALSE)","v":"军机营"}]
[30300,4,"[[101,100000],[103,100000]]",26000,"[[302,4],[601,400]]","[[1,14]]",null,"[[302,4],[601,400]]",null,{"$f":"VLOOKUP(A534,[1]Sheet1!$A:$D,4,FALSE)","v":"军机营"}]
[30300,5,null,null,"[[302,5],[601,500]]","[[1,18]]",null,"[[302,5],[601,500]]",null,{"$f":"VLOOKUP(A535,[1]Sheet1!$A:$D,4,FALSE)","v":"军机营"}]
[30400,0,"[[101,1000],[103,1000]]",6000,"[[301,0],[601,600]]","[[1,7]]",null,"[[301,1],[601,600]]",null,{"$f":"VLOOKUP(A536,[1]Sheet1!$A:$D,4,FALSE)","v":"工程营"}]
[30400,1,"[[101,5000],[103,5000]]",12000,"[[301,1],[601,700]]","[[1,7]]",null,"[[301,2],[601,700]]",null,{"$f":"VLOOKUP(A537,[1]Sheet1!$A:$D,4,FALSE)","v":"工程营"}]
[30400,2,"[[101,15000],[103,15000]]",16000,"[[301,2],[601,800]]","[[1,8]]",null,"[[301,3],[601,800]]",null,{"$f":"VLOOKUP(A538,[1]Sheet1!$A:$D,4,FALSE)","v":"工程营"}]
[30400,3,"[[101,50000],[103,50000]]",20000,"[[301,3],[601,900]]","[[1,10]]",null,"[[301,4],[601,900]]",null,{"$f":"VLOOKUP(A539,[1]Sheet1!$A:$D,4,FALSE)","v":"工程营"}]
[30400,4,"[[101,100000],[103,100000]]",26000,"[[301,4],[601,1000]]","[[1,15]]",null,"[[301,5],[601,1000]]",null,{"$f":"VLOOKUP(A540,[1]Sheet1!$A:$D,4,FALSE)","v":"工程营"}]
[30400,5,null,null,"[[301,5],[601,1100]]","[[1,19]]",null,"[[301,6],[601,1100]]",null,{"$f":"VLOOKUP(A541,[1]Sheet1!$A:$D,4,FALSE)","v":"工程营"}]
[30500,0,"[[101,15000],[103,15000]]",1800,"[[303,0]]","[[1,10]]",null,"[[303,0]]",null,{"$f":"VLOOKUP(A542,[1]Sheet1!$A:$D,4,FALSE)","v":"城墙"}]
[30500,1,"[[101,25000],[103,25000]]",3000,"[[303,2000],[601,100]]","[[1,14]]",null,"[[303,2000],[601,100]]",null,{"$f":"VLOOKUP(A543,[1]Sheet1!$A:$D,4,FALSE)","v":"城墙"}]
[30500,2,"[[101,40000],[103,40000]]",5900,"[[303,2500],[601,200]]","[[1,14]]",null,"[[303,2500],[601,200]]",null,{"$f":"VLOOKUP(A544,[1]Sheet1!$A:$D,4,FALSE)","v":"城墙"}]
[30500,3,"[[101,55000],[103,55000]]",8800,"[[303,3000],[601,300]]","[[1,17]]",null,"[[303,3000],[601,300]]",null,{"$f":"VLOOKUP(A545,[1]Sheet1!$A:$D,4,FALSE)","v":"城墙"}]
[30500,4,"[[101,70000],[103,70000]]",10500,"[[303,3500],[601,400]]","[[1,19]]",null,"[[303,3500],[601,400]]",null,{"$f":"VLOOKUP(A546,[1]Sheet1!$A:$D,4,FALSE)","v":"城墙"}]
[30500,5,"[[101,85000],[103,85000]]",11700,"[[303,4000],[601,500]]","[[1,21]]",null,"[[303,4000],[601,500]]",null,{"$f":"VLOOKUP(A547,[1]Sheet1!$A:$D,4,FALSE)","v":"城墙"}]
[30500,6,"[[101,120000],[103,120000]]",14000,"[[303,4500],[601,600]]","[[1,23]]",null,"[[303,4500],[601,600]]",null,{"$f":"VLOOKUP(A548,[1]Sheet1!$A:$D,4,FALSE)","v":"城墙"}]
[30500,7,"[[101,200000],[103,200000]]",15200,"[[303,5000],[601,700]]","[[1,25]]",null,"[[303,5000],[601,700]]",null,{"$f":"VLOOKUP(A549,[1]Sheet1!$A:$D,4,FALSE)","v":"城墙"}]
[30500,8,"[[101,500000],[103,500000]]",19900,"[[303,5500],[601,800]]","[[1,25]]",null,"[[303,5500],[601,800]]",null,{"$f":"VLOOKUP(A550,[1]Sheet1!$A:$D,4,FALSE)","v":"城墙"}]
[30500,9,"[[101,700000],[103,700000]]",26300,"[[303,6000],[601,900]]","[[1,25]]",null,"[[303,6000],[601,900]]",null,{"$f":"VLOOKUP(A551,[1]Sheet1!$A:$D,4,FALSE)","v":"城墙"}]
[30500,10,null,null,"[[303,6500],[601,1000]]","[[1,25]]",null,"[[303,6500],[601,1000]]",null,{"$f":"VLOOKUP(A552,[1]Sheet1!$A:$D,4,FALSE)","v":"城墙"}]
[30600,0,"[[101,100000],[103,100000]]",12000,"[[304,0]]","[[1,18]]",null,"[[304,0]]",null,{"$f":"VLOOKUP(A553,[1]Sheet1!$A:$D,4,FALSE)","v":{"$error":"#N/A"}}]
[30600,1,"[[101,300000],[103,300000]]",24000,"[[304,2000],[601,100]]","[[1,18]]",null,"[[304,2000],[601,100]]",null,{"$f":"VLOOKUP(A554,[1]Sheet1!$A:$D,4,FALSE)","v":{"$error":"#N/A"}}]
[30600,2,"[[101,600000],[103,600000]]",41900,"[[304,3000],[601,200]]","[[1,21]]",null,"[[304,3000],[601,200]]",null,{"$f":"VLOOKUP(A555,[1]Sheet1!$A:$D,4,FALSE)","v":{"$error":"#N/A"}}]
[30600,3,null,null,"[[304,4000],[601,300]]","[[1,25]]",null,"[[304,4000],[601,300]]",null,{"$f":"VLOOKUP(A556,[1]Sheet1!$A:$D,4,FALSE)","v":{"$error":"#N/A"}}]
[30700,0,"[[101,15000],[103,15000]]",2400,"[[305,0]]","[[1,14]]",null,"[[305,0]]",null,{"$f":"VLOOKUP(A557,[1]Sheet1!$A:$D,4,FALSE)","v":"城防军"}]
[30700,1,"[[101,20000],[103,20000]]",6000,"[[305,1000],[601,100]]","[[1,14]]",null,"[[305,1000],[601,100]]",null,{"$f":"VLOOKUP(A558,[1]Sheet1!$A:$D,4,FALSE)","v":"城防军"}]
[30700,2,"[[101,25000],[103,25000]]",7000,"[[305,2000],[601,200]]","[[1,15]]",null,"[[305,2000],[601,200]]",null,{"$f":"VLOOKUP(A559,[1]Sheet1!$A:$D,4,FALSE)","v":"城防军"}]
[30700,3,"[[101,40000],[103,40000]]",8200,"[[305,3000],[601,300]]","[[1,17]]",null,"[[305,3000],[601,300]]",null,{"$f":"VLOOKUP(A560,[1]Sheet1!$A:$D,4,FALSE)","v":"城防军"}]
[30700,4,"[[101,50000],[103,50000]]",10000,"[[305,4000],[601,400]]","[[1,19]]",null,"[[305,4000],[601,400]]",null,{"$f":"VLOOKUP(A561,[1]Sheet1!$A:$D,4,FALSE)","v":"城防军"}]
[30700,5,"[[101,70000],[103,70000]]",11700,"[[305,5000],[601,500]]","[[1,21]]",null,"[[305,5000],[601,500]]",null,{"$f":"VLOOKUP(A562,[1]Sheet1!$A:$D,4,FALSE)","v":"城防军"}]
[30700,6,"[[101,100000],[103,100000]]",14000,"[[305,6000],[601,600]]","[[1,23]]",null,"[[305,6000],[601,600]]",null,{"$f":"VLOOKUP(A563,[1]Sheet1!$A:$D,4,FALSE)","v":"城防军"}]
[30700,7,"[[101,200000],[103,200000]]",16400,"[[305,7000],[601,700]]","[[1,25]]",null,"[[305,7000],[601,700]]",null,{"$f":"VLOOKUP(A564,[1]Sheet1!$A:$D,4,FALSE)","v":"城防军"}]
[30700,8,"[[101,500000],[103,500000]]",18700,"[[305,8000],[601,800]]","[[1,25]]",null,"[[305,8000],[601,800]]",null,{"$f":"VLOOKUP(A565,[1]Sheet1!$A:$D,4,FALSE)","v":"城防军"}]
[30700,9,"[[101,700000],[103,700000]]",23400,"[[305,9000],[601,900]]","[[1,25]]",null,"[[305,9000],[601,900]]",null,{"$f":"VLOOKUP(A566,[1]Sheet1!$A:$D,4,FALSE)","v":"城防军"}]
[30700,10,null,null,"[[305,10000],[601,1000]]","[[1,25]]",null,"[[305,10000],[601,1000]]",null,{"$f":"VLOOKUP(A567,[1]Sheet1!$A:$D,4,FALSE)","v":"城防军"}]
[30800,0,"[[101,20000],[103,20000]]",2400,"[[306,0]]","[[1,16]]",null,"[[306,0]]",null,{"$f":"VLOOKUP(A568,[1]Sheet1!$A:$D,4,FALSE)","v":"城卫营"}]
[30800,1,"[[101,25000],[103,25000]]",6000,"[[306,50],[601,100]]","[[1,16]]",null,"[[306,50],[601,100]]",null,{"$f":"VLOOKUP(A569,[1]Sheet1!$A:$D,4,FALSE)","v":"城卫营"}]
[30800,2,"[[101,30000],[103,30000]]",7000,"[[306,100],[601,200]]","[[1,17]]",null,"[[306,100],[601,200]]",null,{"$f":"VLOOKUP(A570,[1]Sheet1!$A:$D,4,FALSE)","v":"城卫营"}]
[30800,3,"[[101,50000],[103,50000]]",8200,"[[306,150],[601,300]]","[[1,19]]",null,"[[306,150],[601,300]]",null,{"$f":"VLOOKUP(A571,[1]Sheet1!$A:$D,4,FALSE)","v":"城卫营"}]
[30800,4,"[[101,70000],[103,70000]]",10000,"[[306,200],[601,400]]","[[1,21]]",null,"[[306,200],[601,400]]",null,{"$f":"VLOOKUP(A572,[1]Sheet1!$A:$D,4,FALSE)","v":"城卫营"}]
[30800,5,"[[101,100000],[103,100000]]",11700,"[[306,250],[601,500]]","[[1,23]]",null,"[[306,250],[601,500]]",null,{"$f":"VLOOKUP(A573,[1]Sheet1!$A:$D,4,FALSE)","v":"城卫营"}]
[30800,6,"[[101,150000],[103,150000]]",14000,"[[306,300],[601,600]]","[[1,24]]",null,"[[306,300],[601,600]]",null,{"$f":"VLOOKUP(A574,[1]Sheet1!$A:$D,4,FALSE)","v":"城卫营"}]
[30800,7,"[[101,300000],[103,300000]]",16400,"[[306,350],[601,700]]","[[1,25]]",null,"[[306,350],[601,700]]",null,{"$f":"VLOOKUP(A575,[1]Sheet1!$A:$D,4,FALSE)","v":"城卫营"}]
[30800,8,"[[101,600000],[103,600000]]",18700,"[[306,400],[601,800]]","[[1,25]]",null,"[[306,400],[601,800]]",null,{"$f":"VLOOKUP(A576,[1]Sheet1!$A:$D,4,FALSE)","v":"城卫营"}]
[30800,9,"[[101,800000],[103,800000]]",23400,"[[306,450],[601,900]]","[[1,25]]",null,"[[306,450],[601,900]]",null,{"$f":"VLOOKUP(A577,[1]Sheet1!$A:$D,4,FALSE)","v":"城卫营"}]
[30800,10,null,null,"[[306,500],[601,1000]]","[[1,25]]",null,"[[306,500],[601,1000]]",null,{"$f":"VLOOKUP(A578,[1]Sheet1!$A:$D,4,FALSE)","v":"城卫营"}]
[30900,0,"[[101,15000],[103,15000]]",2400,"[[307,0]]","[[1,17]]",null,"[[307,0]]",null,{"$f":"VLOOKUP(A579,[1]Sheet1!$A:$D,4,FALSE)","v":"箭楼"}]
[30900,1,"[[101,25000],[103,25000]]",5300,"[[307,50],[601,100]]","[[1,17]]",null,"[[307,50],[601,100]]",null,{"$f":"VLOOKUP(A580,[1]Sheet1!$A:$D,4,FALSE)","v":"箭楼"}]
[30900,2,"[[101,30000],[103,30000]]",7000,"[[307,100],[601,200]]","[[1,18]]",null,"[[307,100],[601,200]]",null,{"$f":"VLOOKUP(A581,[1]Sheet1!$A:$D,4,FALSE)","v":"箭楼"}]
[30900,3,"[[101,50000],[103,50000]]",8200,"[[307,150],[601,300]]","[[1,19]]",null,"[[307,150],[601,300]]",null,{"$f":"VLOOKUP(A582,[1]Sheet1!$A:$D,4,FALSE)","v":"箭楼"}]
[30900,4,"[[101,70000],[103,70000]]",10000,"[[307,200],[601,400]]","[[1,21]]",null,"[[307,200],[601,400]]",null,{"$f":"VLOOKUP(A583,[1]Sheet1!$A:$D,4,FALSE)","v":"箭楼"}]
[30900,5,"[[101,100000],[103,100000]]",11700,"[[307,250],[601,500]]","[[1,23]]",null,"[[307,250],[601,500]]",null,{"$f":"VLOOKUP(A584,[1]Sheet1!$A:$D,4,FALSE)","v":"箭楼"}]
[30900,6,"[[101,150000],[103,150000]]",14000,"[[307,300],[601,600]]","[[1,25]]",null,"[[307,300],[601,600]]",null,{"$f":"VLOOKUP(A585,[1]Sheet1!$A:$D,4,FALSE)","v":"箭楼"}]
[30900,7,"[[101,400000],[103,400000]]",16400,"[[307,350],[601,700]]","[[1,25]]",null,"[[307,350],[601,700]]",null,{"$f":"VLOOKUP(A586,[1]Sheet1!$A:$D,4,FALSE)","v":"箭楼"}]
[30900,8,"[[101,600000],[103,600000]]",18700,"[[307,400],[601,800]]","[[1,25]]",null,"[[307,400],[601,800]]",null,{"$f":"VLOOKUP(A587,[1]Sheet1!$A:$D,4,FALSE)","v":"箭楼"}]
[30900,9,"[[101,800000],[103,800000]]",23400,"[[307,450],[601,900]]","[[1,25]]",null,"[[307,450],[601,900]]",null,{"$f":"VLOOKUP(A588,[1]Sheet1!$A:$D,4,FALSE)","v":"箭楼"}]
[30900,10,null,null,"[[307,500],[601,1000]]","[[1,25]]",null,"[[307,500],[601,1000]]",null,{"$f":"VLOOKUP(A589,[1]Sheet1!$A:$D,4,FALSE)","v":"箭楼"}]
[30901,0,"[[101,30000],[103,30000]]",1600,"[[308,0]]","[[1,17]]",null,"[[308,0]]",null,{"$f":"VLOOKUP(A590,[1]Sheet1!$A:$D,4,FALSE)","v":"垛口"}]
[30901,1,"[[101,40000],[103,40000]]",3500,"[[308,50],[601,100]]","[[1,17]]",null,"[[308,50],[601,100]]",null,{"$f":"VLOOKUP(A591,[1]Sheet1!$A:$D,4,FALSE)","v":"垛口"}]
[30901,2,"[[101,50000],[103,50000]]",4700,"[[308,100],[601,200]]","[[1,18]]",null,"[[308,100],[601,200]]",null,{"$f":"VLOOKUP(A592,[1]Sheet1!$A:$D,4,FALSE)","v":"垛口"}]
[30901,3,"[[101,80000],[103,80000]]",5500,"[[308,150],[601,300]]","[[1,20]]",null,"[[308,150],[601,300]]",null,{"$f":"VLOOKUP(A593,[1]Sheet1!$A:$D,4,FALSE)","v":"垛口"}]
[30901,4,"[[101,100000],[103,100000]]",6700,"[[308,200],[601,400]]","[[1,22]]",null,"[[308,200],[601,400]]",null,{"$f":"VLOOKUP(A594,[1]Sheet1!$A:$D,4,FALSE)","v":"垛口"}]
[30901,5,"[[101,150000],[103,150000]]",7800,"[[308,250],[601,500]]","[[1,24]]",null,"[[308,250],[601,500]]",null,{"$f":"VLOOKUP(A595,[1]Sheet1!$A:$D,4,FALSE)","v":"垛口"}]
[30901,6,"[[101,250000],[103,250000]]",9400,"[[308,300],[601,600]]","[[1,25]]",null,"[[308,300],[601,600]]",null,{"$f":"VLOOKUP(A596,[1]Sheet1!$A:$D,4,FALSE)","v":"垛口"}]
[30901,7,"[[101,400000],[103,400000]]",10900,"[[308,350],[601,700]]","[[1,25]]",null,"[[308,350],[601,700]]",null,{"$f":"VLOOKUP(A597,[1]Sheet1!$A:$D,4,FALSE)","v":"垛口"}]
[30901,8,"[[101,600000],[103,600000]]",12500,"[[308,400],[601,800]]","[[1,25]]",null,"[[308,400],[601,800]]",null,{"$f":"VLOOKUP(A598,[1]Sheet1!$A:$D,4,FALSE)","v":"垛口"}]
[30901,9,"[[101,800000],[103,800000]]",15600,"[[308,450],[601,900]]","[[1,25]]",null,"[[308,450],[601,900]]",null,{"$f":"VLOOKUP(A599,[1]Sheet1!$A:$D,4,FALSE)","v":"垛口"}]
[30901,10,null,null,"[[308,500],[601,1000]]","[[1,25]]",null,"[[308,500],[601,1000]]",null,{"$f":"VLOOKUP(A600,[1]Sheet1!$A:$D,4,FALSE)","v":"垛口"}]